BEGIN:VCALENDAR
VERSION:2.0
PRODID:-//ChamberMaster//Event Calendar 2.0//EN
METHOD:PUBLISH
X-PUBLISHED-TTL:P3D
REFRESH-INTERVAL:P3D
CALSCALE:GREGORIAN
BEGIN:VEVENT
DTSTART:20190425T213000Z
DTEND:20190426T003000Z
X-MICROSOFT-CDO-ALLDAYEVENT:FALSE
SUMMARY:13th Annual Magnolia Party
DESCRIPTION:This signature event is a fabulous fundraiser supporting the ongoing preservation and maintenance of the two historic\, landmark Victorian structures that house the Cunneen-Hackett Arts Center located at 9 & 12 Vassar Street in Poughkeepsie\, NY.\n\nThis year's Magnolia Party again features live music by Ben Basile with raffle prizes donated by local businesses.   The festivities include wine and beer\, heavy hors d'oeuvres and a gallery exhibit by Paul Kmiotek who will be on hand to talk about his artwork.  \n\nTickets for the Magnolia Party are $50.00 per person.  Reservations: Call 845-486-4571 or buy tickets on line at www.cunneen-hackett.org.   Tickets are also available through Eventbrite.
X-ALT-DESC;FMTTYPE=text/html:<strong abp="2487"><span abp="2488" style="font-size: 14pt\;"><span abp="2489" style="font-family: times new roman\;">This signature event is a fabulous fundraiser supporting the ongoing preservation and maintenance of the two historic\, landmark Victorian structures that house the Cunneen-Hackett Arts Center located at 9 &amp\; 12 Vassar Street in Poughkeepsie\, NY.</span></span></strong><br abp="2490" />\n<strong abp="2491"><span abp="2492" style="font-size: 14pt\;"><span abp="2493" style="font-family: times new roman\;">This year&rsquo\;s Magnolia Party again features live music by Ben Basile with raffle prizes donated by local businesses.&nbsp\;&nbsp\; The festivities include wine and beer\, heavy hors d&rsquo\;oeuvres and a gallery exhibit by Paul Kmiotek who will be on hand to talk about&nbsp\;his artwork.&nbsp\; </span></span></strong><br abp="2494" />\n<strong abp="2495"><span abp="2496" style="font-size: 14pt\;"><span abp="2497" style="font-family: times new roman\;">Tickets for the Magnolia Party are $50.00 per person. &nbsp\;Reservations: Call 845-486-4571 or buy tickets on line at </span><a abp="2498" href="http://www.cunneen-hackett.org/"><span abp="2499" style="font-family: times new roman\;"><span abp="2500" style="color: rgb(0\, 0\, 255)\;">www.cunneen-hackett.org</span></span></a><span abp="2501" style="font-family: times new roman\;">.&nbsp\; &nbsp\;Tickets are also available through Eventbrite. &nbsp\;</span></span></strong><br abp="2502" />\n&nbsp\;
LOCATION:Cunneen-Hackett Arts Center 9 Vassar Street Poughkeepsie\, NY 12601
UID:e.2770.10480546
SEQUENCE:3
DTSTAMP:20260423T055348Z
URL:http://dutchesscountyregional.smartcms.site/events/details/13th-annual-magnolia-party-10480546
END:VEVENT

END:VCALENDAR
