BEGIN:VCALENDAR
VERSION:2.0
PRODID:-//ChamberMaster//Event Calendar 2.0//EN
METHOD:PUBLISH
X-PUBLISHED-TTL:P3D
REFRESH-INTERVAL:P3D
CALSCALE:GREGORIAN
BEGIN:VEVENT
DTSTART:20200319T213000Z
DTEND:20200320T010000Z
X-MICROSOFT-CDO-ALLDAYEVENT:FALSE
SUMMARY:15th Annual Cosimo DiBrizzi Celebrity Servers Dinner - POSTPONED***
DESCRIPTION:Guests with paid registrations for postponed events will be automatically registered for the re-scheduled event\, and notified of the new date and time\, along with specific instructions regarding refunds.\n\n\n\n\n\nStep up and trade that suit and tie in for an apron and help raise funds for a worthy cause! Or come out and enjoy a delectable three-course meal paired with wine served to you by a local celebrity in the business community.\n\n\n\nProceeds benefit the Cosimo DiBrizzi Memorial Scholarship. This scholarship\, established by the family of Cosimo DiBrizzi\, the Dutchess County Regional Chamber of Commerce and The Chamber Foundation\, was created to honor the memory of this well respected restaurateur and friend to many in the Hudson Valley. The Cosimo DiBrizzi Scholarship is available to any resident of the Hudson Valley who is pursuing a career in the Culinary Arts at the Culinary Institute of America.\n\n\n\n5:30 PM - Cocktail Reception (Cash Bar)\n\n6:15 PM - Wine Dinner\n\n\n\nQuestions? Please call (845) 454-1700 ext 1000\n\n\n\nSponsored by: Riverside Bank\; Mobile Life Support Services\, Inc\; Walden Savings Bank
X-ALT-DESC;FMTTYPE=text/html:<br />\n<span style="background:yellow\;"><span style="color:#333333\;"><span style="font-family:tahoma\,sans-serif\;"><span style="font-size:16.0pt\;">Guests with paid registrations for postponed events will be automatically registered for the re-scheduled event\, and notified of the new date and time\, along with specific instructions regarding refunds.</span></span></span></span><br />\n<br />\n<br />\n<span style="font-size:16px\;"><span style="font-family:tahoma\;">Step up and trade that suit and tie in for an apron and help raise funds for a worthy cause! Or come out and enjoy a delectable three-course meal paired with wine served to you by a local celebrity in the business community.<br />\n<br />\nProceeds benefit the Cosimo DiBrizzi Memorial Scholarship. This scholarship\, established by the family of Cosimo DiBrizzi\, the Dutchess County Regional Chamber of Commerce and The Chamber Foundation\, was created to honor the memory of this well respected restaurateur and friend to many in the Hudson Valley. The Cosimo DiBrizzi Scholarship is available to any resident of the Hudson Valley who is pursuing a career in the Culinary Arts at the Culinary Institute of America.<br />\n<br />\n<strong>5:30 PM - Cocktail Reception (Cash Bar)<br />\n6:15 PM - Wine Dinner</strong></span></span><br />\n<br style="background-color: transparent\; color: rgb(51\, 51\, 51)\; cursor: text\; font-family: sans-serif\,Arial\,Verdana\,&amp\;quot\;Trebuchet MS&amp\;quot\;\; font-size: 13px\; font-style: normal\; font-variant: normal\; font-weight: 400\; letter-spacing: normal\; line-height: 20.8px\; margin-bottom: 0px\; margin-left: 0px\; margin-right: 0px\; margin-top: 0px\; orphans: 2\; text-align: left\; text-decoration: none\; text-indent: 0px\; text-transform: none\; -webkit-text-stroke-width: 0px\; white-space: normal\; word-spacing: 0px\;" />\n<span style="background-color: transparent\; color: rgb(51\, 51\, 51)\; font-family: sans-serif\,Arial\,Verdana\,&amp\;quot\;Trebuchet MS&amp\;quot\;\; font-size: 16px\; font-style: normal\; font-variant: normal\; font-weight: 400\; letter-spacing: normal\; orphans: 2\; text-align: left\; text-decoration: none\; text-indent: 0px\; text-transform: none\; -webkit-text-stroke-width: 0px\; white-space: normal\; word-spacing: 0px\;"><span style="font-family: tahoma\;"><strong>Questions? Please call (845) 454-1700 ext 1000</strong></span></span><br />\n<br />\n<span style="display: inline !important\; float: none\; background-color: transparent\; color: rgb(51\, 51\, 51)\; font-family: tahoma\; font-size: 16px\; font-style: normal\; font-variant: normal\; font-weight: 400\; letter-spacing: normal\; orphans: 2\; text-align: left\; text-decoration: none\; text-indent: 0px\; text-transform: none\; -webkit-text-stroke-width: 0px\; white-space: normal\; word-spacing: 0px\;">Sponsored by:<span style="font-size:14px\;"> </span></span><span style="float: none\; background-color: transparent\; font-family: tahoma\; font-size: 16px\; font-style: normal\; font-variant: normal\; font-weight: 400\; letter-spacing: normal\; orphans: 2\; text-align: left\; text-decoration: none\; text-indent: 0px\; text-transform: none\; -webkit-text-stroke-width: 0px\; white-space: normal\; word-spacing: 0px\; display: inline !important\;"><span style="font-size:14px\;"><strong><a href="https://www.bankriverside.com/"><span style="color:#0000FF\;">Riverside Bank</span></a><span style="color:#0000FF\;">\; </span><a href="http://www.mobilelife.com/"><span style="color:#0000FF\;">Mobile Life Support Services\, Inc</span></a><span style="color:#0000FF\;">\; </span><a href="https://waldensavings.bank/"><span style="color:#0000FF\;">Walden Savings Bank</span></a></strong></span></span>
LOCATION:Cosimo's Brick Oven 120 Delafield Street Poughkeepsie\, NY 12601
UID:e.2770.10482611
SEQUENCE:3
DTSTAMP:20260422T090609Z
URL:http://dutchesscountyregional.smartcms.site/events/details/15th-annual-cosimo-dibrizzi-celebrity-servers-dinner-postponed-10482611
END:VEVENT

END:VCALENDAR
