BEGIN:VCALENDAR
VERSION:2.0
PRODID:-//ChamberMaster//Event Calendar 2.0//EN
METHOD:PUBLISH
X-PUBLISHED-TTL:P3D
REFRESH-INTERVAL:P3D
CALSCALE:GREGORIAN
BEGIN:VEVENT
DTSTART:20190202T223000Z
DTEND:20190203T040000Z
X-MICROSOFT-CDO-ALLDAYEVENT:FALSE
SUMMARY:2019 Sky's the Limit Gala
DESCRIPTION:PLEASE CALL 845-454-1700 Ext. 1050 for reservations.\n\n\n\nJoin the stars of the Hudson Valley in your finest attire \n\nand enjoy delicious cuisine\, decadent cocktails\, \n\ndelightful company and dance the night away\n\nto celebrate some of the best in local business.\n\n\n\n2019 GALA HONOREES\n\n \n\nCommunity Service\n\nTom Weddell\n\nRBT CPAs\, LLP\n\n\n\nCommunity Spirit\n\nLinda G. Campbell\n\nThe Arc of Dutchess\n\n \n\nVisionary\n\nJim and Gina Sullivan\n\n40 Cannon Street\n\n \n\nNext Generation\n\nDaniel\, Joseph Jr.\, and Domenico Lepore\n\nLCS Facility Group\n\n\n\nBritney NeJame-O'Brien and Steven O'Brien\n\nNeJame Pool Specialists\, Inc.\n\n\nOur annual gala is a premier black-tie event\, featuring extended cocktail hour\, full three course dinner\, premium open bar and great music!\n\n\n\n*Please RSVP By January 28th \n\n\n\nFor sponsorship opportunities\, call 845.454.1700 x 1023.
X-ALT-DESC;FMTTYPE=text/html:<div style="text-align: center\; color: rgb(119\, 119\, 119)\; text-transform: none\; text-indent: 0px\; letter-spacing: normal\; font-size: 14px\; font-style: normal\; font-variant: normal\; font-weight: 400\; text-decoration: none\; word-spacing: 0px\; white-space: normal\; box-sizing: border-box\; orphans: 2\; background-color: transparent\; -webkit-text-stroke-width: 0px\;"><br />\n<span style="font-size: 16px\;"><span style="font-family: times new roman\;"><span style="color: rgb(255\, 0\, 0)\;"><strong>PLEASE CALL 845-454-1700 Ext. 1050 for reservations.</strong></span></span></span><br />\n<br />\n<span style="font-size: 16px\;"><span style="color: rgb(0\, 0\, 0)\;"><span style="box-sizing: border-box\;">Join the stars of the Hudson Valley in your&nbsp\;finest attire&nbsp\;</span></span></span></div>\n\n<div style="text-align: center\; color: rgb(119\, 119\, 119)\; text-transform: none\; text-indent: 0px\; letter-spacing: normal\; font-size: 14px\; font-style: normal\; font-variant: normal\; font-weight: 400\; text-decoration: none\; word-spacing: 0px\; white-space: normal\; box-sizing: border-box\; orphans: 2\; background-color: transparent\; -webkit-text-stroke-width: 0px\;"><span style="font-size: 16px\;"><span style="color: rgb(0\, 0\, 0)\;"><span style="box-sizing: border-box\;">and&nbsp\;enjoy delicious&nbsp\;cuisine\, decadent&nbsp\;cocktails\,&nbsp\;</span></span></span></div>\n\n<div style="text-align: center\; color: rgb(119\, 119\, 119)\; text-transform: none\; text-indent: 0px\; letter-spacing: normal\; font-size: 14px\; font-style: normal\; font-variant: normal\; font-weight: 400\; text-decoration: none\; word-spacing: 0px\; white-space: normal\; box-sizing: border-box\; orphans: 2\; background-color: transparent\; -webkit-text-stroke-width: 0px\;"><span style="font-size: 16px\;"><span style="color: rgb(0\, 0\, 0)\;"><span style="box-sizing: border-box\;">delightful&nbsp\;company&nbsp\;and dance the night away<br />\nto celebrate&nbsp\;some of the best in local business.</span></span></span></div>\n\n<div style="text-align: center\; color: rgb(119\, 119\, 119)\; text-transform: none\; text-indent: 0px\; letter-spacing: normal\; font-size: 14px\; font-style: normal\; font-variant: normal\; font-weight: 400\; text-decoration: none\; word-spacing: 0px\; white-space: normal\; box-sizing: border-box\; orphans: 2\; background-color: transparent\; -webkit-text-stroke-width: 0px\;"><br style="box-sizing: border-box\;" />\n<span style="font-size: 16px\;"><span style="color: rgb(0\, 0\, 0)\;"><span style="box-sizing: border-box\;">2019 GALA HONOREES</span></span></span><br />\n&nbsp\;</div>\n\n<div style="text-align: center\; color: rgb(119\, 119\, 119)\; text-transform: none\; text-indent: 0px\; letter-spacing: normal\; font-size: 14px\; font-style: normal\; font-variant: normal\; font-weight: 400\; text-decoration: none\; word-spacing: 0px\; white-space: normal\; box-sizing: border-box\; orphans: 2\; background-color: transparent\; -webkit-text-stroke-width: 0px\;"><span style="font-size: 16px\;"><span style="color: rgb(0\, 0\, 0)\;"><span style="box-sizing: border-box\;"><strong style="font-weight: 700\; box-sizing: border-box\;"><span style="box-sizing: border-box\;"><em style="box-sizing: border-box\;"><span style="box-sizing: border-box\;">Community Service</span></em></span></strong></span></span></span></div>\n\n<div style="text-align: center\; color: rgb(119\, 119\, 119)\; text-transform: none\; text-indent: 0px\; letter-spacing: normal\; font-size: 14px\; font-style: normal\; font-variant: normal\; font-weight: 400\; text-decoration: none\; word-spacing: 0px\; white-space: normal\; box-sizing: border-box\; orphans: 2\; background-color: transparent\; -webkit-text-stroke-width: 0px\;"><span style="font-size: 16px\;"><span style="color: rgb(0\, 0\, 0)\;"><span style="box-sizing: border-box\;"><strong style="font-weight: 700\; box-sizing: border-box\;">Tom Weddell</strong><br style="box-sizing: border-box\;" />\n<span style="box-sizing: border-box\;"><em style="box-sizing: border-box\;">RBT CPAs\, LLP</em></span></span></span></span></div>\n\n<div style="text-align: center\; color: rgb(119\, 119\, 119)\; text-transform: none\; text-indent: 0px\; letter-spacing: normal\; font-size: 14px\; font-style: normal\; font-variant: normal\; font-weight: 400\; text-decoration: none\; word-spacing: 0px\; white-space: normal\; box-sizing: border-box\; orphans: 2\; background-color: transparent\; -webkit-text-stroke-width: 0px\;"><br style="box-sizing: border-box\;" />\n<span style="font-size: 16px\;"><span style="color: rgb(0\, 0\, 0)\;"><span style="box-sizing: border-box\;"><span style="box-sizing: border-box\;"><strong style="font-weight: 700\; box-sizing: border-box\;"><span style="box-sizing: border-box\;"><span style="box-sizing: border-box\;"><em style="box-sizing: border-box\;">Community Spirit</em></span></span></strong></span></span></span></span></div>\n\n<div style="text-align: center\; color: rgb(119\, 119\, 119)\; text-transform: none\; text-indent: 0px\; letter-spacing: normal\; font-size: 14px\; font-style: normal\; font-variant: normal\; font-weight: 400\; text-decoration: none\; word-spacing: 0px\; white-space: normal\; box-sizing: border-box\; orphans: 2\; background-color: transparent\; -webkit-text-stroke-width: 0px\;"><span style="font-size: 16px\;"><span style="color: rgb(0\, 0\, 0)\;"><span style="box-sizing: border-box\;"><span style="box-sizing: border-box\;"><strong style="font-weight: 700\; box-sizing: border-box\;">Linda G. Campbell</strong></span></span></span></span></div>\n\n<div style="text-align: center\; color: rgb(119\, 119\, 119)\; text-transform: none\; text-indent: 0px\; letter-spacing: normal\; font-size: 14px\; font-style: normal\; font-variant: normal\; font-weight: 400\; text-decoration: none\; word-spacing: 0px\; white-space: normal\; box-sizing: border-box\; orphans: 2\; background-color: transparent\; -webkit-text-stroke-width: 0px\;"><span style="font-size: 16px\;"><span style="color: rgb(0\, 0\, 0)\;"><span style="box-sizing: border-box\;"><span style="box-sizing: border-box\;"><em style="box-sizing: border-box\;">The Arc of Dutches</em>s</span></span></span></span><br style="box-sizing: border-box\;" />\n&nbsp\;</div>\n\n<div style="text-align: center\; color: rgb(119\, 119\, 119)\; text-transform: none\; text-indent: 0px\; letter-spacing: normal\; font-size: 14px\; font-style: normal\; font-variant: normal\; font-weight: 400\; text-decoration: none\; word-spacing: 0px\; white-space: normal\; box-sizing: border-box\; orphans: 2\; background-color: transparent\; -webkit-text-stroke-width: 0px\;"><span style="font-size: 16px\;"><span style="color: rgb(0\, 0\, 0)\;"><span style="box-sizing: border-box\;"><strong style="font-weight: 700\; box-sizing: border-box\;"><span style="box-sizing: border-box\;"><em style="box-sizing: border-box\;"><span style="box-sizing: border-box\;">Visionary</span></em></span></strong></span></span></span></div>\n\n<div style="text-align: center\; color: rgb(119\, 119\, 119)\; text-transform: none\; text-indent: 0px\; letter-spacing: normal\; font-size: 14px\; font-style: normal\; font-variant: normal\; font-weight: 400\; text-decoration: none\; word-spacing: 0px\; white-space: normal\; box-sizing: border-box\; orphans: 2\; background-color: transparent\; -webkit-text-stroke-width: 0px\;"><span style="font-size: 16px\;"><span style="color: rgb(0\, 0\, 0)\;"><span style="box-sizing: border-box\;"><strong style="font-weight: 700\; box-sizing: border-box\;">Jim and Gina Sullivan</strong></span></span></span></div>\n\n<div style="text-align: center\; color: rgb(119\, 119\, 119)\; text-transform: none\; text-indent: 0px\; letter-spacing: normal\; font-size: 14px\; font-style: normal\; font-variant: normal\; font-weight: 400\; text-decoration: none\; word-spacing: 0px\; white-space: normal\; box-sizing: border-box\; orphans: 2\; background-color: transparent\; -webkit-text-stroke-width: 0px\;"><span style="font-size: 16px\;"><span style="color: rgb(0\, 0\, 0)\;"><span style="box-sizing: border-box\;"><em style="box-sizing: border-box\;"><span style="box-sizing: border-box\;">40 Cannon Street</span></em></span></span></span></div>\n\n<div style="text-align: center\; color: rgb(119\, 119\, 119)\; text-transform: none\; text-indent: 0px\; letter-spacing: normal\; font-size: 14px\; font-style: normal\; font-variant: normal\; font-weight: 400\; text-decoration: none\; word-spacing: 0px\; white-space: normal\; box-sizing: border-box\; orphans: 2\; background-color: transparent\; -webkit-text-stroke-width: 0px\;"><span style="font-size: 16px\;"><span style="color: rgb(0\, 0\, 0)\;"><span style="box-sizing: border-box\;">&nbsp\;</span></span></span></div>\n\n<div style="text-align: center\; color: rgb(119\, 119\, 119)\; text-transform: none\; text-indent: 0px\; letter-spacing: normal\; font-size: 14px\; font-style: normal\; font-variant: normal\; font-weight: 400\; text-decoration: none\; word-spacing: 0px\; white-space: normal\; box-sizing: border-box\; orphans: 2\; background-color: transparent\; -webkit-text-stroke-width: 0px\;"><span style="font-size: 16px\;"><span style="color: rgb(0\, 0\, 0)\;"><span style="box-sizing: border-box\;"><strong style="font-weight: 700\; box-sizing: border-box\;"><span style="box-sizing: border-box\;"><em style="box-sizing: border-box\;"><span style="box-sizing: border-box\;">Next Generation</span></em></span></strong></span></span></span></div>\n\n<div style="text-align: center\; color: rgb(119\, 119\, 119)\; text-transform: none\; text-indent: 0px\; letter-spacing: normal\; font-size: 14px\; font-style: normal\; font-variant: normal\; font-weight: 400\; text-decoration: none\; word-spacing: 0px\; white-space: normal\; box-sizing: border-box\; orphans: 2\; background-color: transparent\; -webkit-text-stroke-width: 0px\;"><span style="font-size: 16px\;"><span style="color: rgb(0\, 0\, 0)\;"><span style="box-sizing: border-box\;"><span style="box-sizing: border-box\;"><strong style="font-weight: 700\; box-sizing: border-box\;">Daniel\, Joseph Jr.\, and Domenico Lepore</strong><br style="box-sizing: border-box\;" />\n<span style="box-sizing: border-box\;"><em style="box-sizing: border-box\;">LCS Facility Group</em></span></span><br style="box-sizing: border-box\;" />\n<br style="box-sizing: border-box\;" />\n<span style="box-sizing: border-box\;"><strong style="font-weight: 700\; box-sizing: border-box\;">Britney NeJame-O&#39\;Brien and Steven O&rsquo\;Brien</strong></span><br style="box-sizing: border-box\;" />\n<span style="box-sizing: border-box\;"><em style="box-sizing: border-box\;">NeJame Pool Specialists\, Inc.</em></span></span></span></span></div>\n<br />\n<span style="color: rgb(0\, 0\, 0)\;"><span style="font-family: arial\;"><span style="font-size: 14px\;"><span style="font-size: 16px\;"><span style="font-family: times new roman\;">Our annual gala is a premier black-tie event\, featuring extended cocktail hour\, full three course dinner\, premium open bar and great music!<br />\n<br />\n*Please RSVP By January 28th </span></span></span></span><br />\n<br />\n<strong><span style="font-size: 16px\;"><span style="text-align: center\; text-transform: none\; text-indent: 0px\; letter-spacing: normal\; font-style: normal\; font-variant: normal\; font-weight: 400\; text-decoration: none\; word-spacing: 0px\; white-space: normal\; box-sizing: border-box\; orphans: 2\; background-color: transparent\; -webkit-text-stroke-width: 0px\;"><em style="box-sizing: border-box\;">For sponsorship opportunities\,&nbsp\;call 845.454.1700 x 1023.</em></span></span></strong></span>
LOCATION:The Grandview 176 Rinaldi Boulevard Poughkeepsie\, NY 12601
UID:e.2770.10479773
SEQUENCE:3
DTSTAMP:20260423T083853Z
URL:http://dutchesscountyregional.smartcms.site/events/details/2019-sky-s-the-limit-gala-10479773
END:VEVENT

END:VCALENDAR
