BEGIN:VCALENDAR
VERSION:2.0
PRODID:-//ChamberMaster//Event Calendar 2.0//EN
METHOD:PUBLISH
X-PUBLISHED-TTL:P3D
REFRESH-INTERVAL:P3D
CALSCALE:GREGORIAN
BEGIN:VEVENT
DTSTART:20200208T223000Z
DTEND:20200209T040000Z
X-MICROSOFT-CDO-ALLDAYEVENT:FALSE
SUMMARY:2020 Hollywood On The Hudson Gala
DESCRIPTION:***This event is SOLD OUT*** \n\nTo be added to our waiting list\, Please call 845.454.1700 x 1050.\n\n\n\nJoin the stars of the Hudson Valley in your finest attire \n\nand enjoy delicious cuisine\, decadent cocktails\, \n\ndelightful company and dance the night away\n\nto celebrate some of the best in local business.\n\n\n\n\n2020 GALA HONOREES\n\n\n\nCommunity Service\n\nDenise Doring VanBuren\n\nCentral Hudson Gas & Electric Corporation\n\n\n\nCommunity Spirit\n\nFoam & Wash Car Wash and Oil Change Plus\n\n\n\nVisionary\n\nJoseph T. Kirchhoff\n\nKirchhoff Companies\n\n \n\nNext Generation\n\n \n\nSims & Associates Podiatry\n\nDr. Erik Sims\n\n\n\n&\n\n\n\nAssociates Golf Car Service\, Inc.\n\nAnn Marie Van Etten - Kania\n\nJoseph Van Etten\n\nJohn Van Etten\n\n\n \n\nOur annual gala is a premier black-tie event\, featuring extended cocktail hour\, full three course dinner\, premium open bar and great music!\n\n \n\nRSVP by January 31\, 2020\n\n\n\nSponsors:\n\n\n\nGala Platinum Sponsor:\n\nKeybank\n\n\n\nRed Carpet:\n\n Revel 32\n\n\n\nBand: \n\nAnimal Farm Foundation Inc. \n\nMarshall & Sterling Insurance \n\nUlster Savings Bank\n\n\n\nCocktail:\n\nRiverside Bank\n\n\n\nDessert:\n\nRhinebeck Bank\n\n\n\nDance:\n\nDCH Wappingers Falls Toyota \n\nJGS\, CPA\, PC\n\nMackey Butts & Wise\n\n\n\nDecor:\n\nAdams Fairacre Farm\n\nHudson Buick-Cadillac-GMC\n\nRondout Savings Bank\n\n\n\nTheme:\n\nS&O Construction\n\nRBT CPAs\, LLP\n\nTompkins Mahopac Bank\n\n\n\nValet:\n\nFoam and Wash Car Wash\n\n\n\nPhoto:\n\nPoughkeepsie Journal Media\n\n\n\nPrize:\n\nKirchhoff Companies\n\n\n\nAward:\n\nDe'S Jewelers\n\n\n\nGold:\n\nCentral Hudson Gas & Electric\n\nIntegrated Enterprise Solutions\, INC.\n\nDocuWare Corporation\n\nM&T Bank\, Hudson Valley Division\n\nN&S Supply\n\nPoughkeepsie Galleria\n\n\n\nCenterpiece:\n\nBlacktop Maintenance Corporation\n\nStenger\, Roberts\, Davis & Diamond LLP - SRDD Law\n\nHudson Valley Credit Union\n\nRose & Kiernan\, Inc.\n\n\n\nSilver:\n\nCareMount Medical\, P.C.\n\nPKF O'Connor Davies\, LLP\n\nMeyer Contracting Corporation\n\nTEG Federal Credit Union\n\nRoyal Carting Service Company
X-ALT-DESC;FMTTYPE=text/html:<div style="text-align: center\; color: rgb(119\, 119\, 119)\; text-transform: none\; text-indent: 0px\; letter-spacing: normal\; font-size: 14px\; font-style: normal\; font-variant: normal\; font-weight: 400\; text-decoration: none\; word-spacing: 0px\; white-space: normal\; box-sizing: border-box\; orphans: 2\; background-color: transparent\; -webkit-text-stroke-width: 0px\;"><strong style="font-family: tahoma\; font-size: 16px\; text-align: center\;"><span style="color: rgb(255\, 0\, 0)\;">***This event is SOLD OUT***&nbsp\;</span></strong><br />\n<strong style="text-align: center\; color: rgb(0\, 0\, 0)\; font-family: tahoma\; font-size: 16px\;"><span style="font-variant-numeric: normal\; font-variant-east-asian: normal\; font-weight: 400\; box-sizing: border-box\; background-color: transparent\;"><em style="box-sizing: border-box\;">To be added to our waiting list\,&nbsp\;Please call 845.454.1700 x 1050.</em></span></strong><br />\n<br />\n<span style="font-size:16px\;"><span style="font-family:tahoma\;"><span style="color: rgb(0\, 0\, 0)\;"><span style="box-sizing: border-box\;">Join the stars of the Hudson Valley in your&nbsp\;finest attire&nbsp\;</span></span></span></span></div>\n\n<div style="text-align: center\; color: rgb(119\, 119\, 119)\; text-transform: none\; text-indent: 0px\; letter-spacing: normal\; font-size: 14px\; font-style: normal\; font-variant: normal\; font-weight: 400\; text-decoration: none\; word-spacing: 0px\; white-space: normal\; box-sizing: border-box\; orphans: 2\; background-color: transparent\; -webkit-text-stroke-width: 0px\;"><span style="font-size:16px\;"><span style="font-family:tahoma\;"><span style="color: rgb(0\, 0\, 0)\;"><span style="box-sizing: border-box\;">and&nbsp\;enjoy delicious&nbsp\;cuisine\, decadent&nbsp\;cocktails\,&nbsp\;</span></span></span></span></div>\n\n<div style="text-align: center\; color: rgb(119\, 119\, 119)\; text-transform: none\; text-indent: 0px\; letter-spacing: normal\; font-size: 14px\; font-style: normal\; font-variant: normal\; font-weight: 400\; text-decoration: none\; word-spacing: 0px\; white-space: normal\; box-sizing: border-box\; orphans: 2\; background-color: transparent\; -webkit-text-stroke-width: 0px\;"><span style="font-size:16px\;"><span style="font-family:tahoma\;"><span style="color: rgb(0\, 0\, 0)\;"><span style="box-sizing: border-box\;">delightful&nbsp\;company&nbsp\;and dance the night away<br />\nto celebrate&nbsp\;some of the best in local business.</span></span></span></span></div>\n\n<div style="text-align: center\; color: rgb(119\, 119\, 119)\; text-transform: none\; text-indent: 0px\; letter-spacing: normal\; font-size: 14px\; font-style: normal\; font-variant: normal\; font-weight: 400\; text-decoration: none\; word-spacing: 0px\; white-space: normal\; box-sizing: border-box\; orphans: 2\; background-color: transparent\; -webkit-text-stroke-width: 0px\;">\n<div helvetica="" style="box-sizing: border-box\; color: rgb(119\, 119\, 119)\; font-family: "><br />\n<span style="font-size:16px\;"><span style="font-family:tahoma\;"><span book="" style="box-sizing: border-box\; font-family: "><span style="color:#DAA520\;"><span style="box-sizing: border-box\;"><em>2020 GALA HONOREES</em></span></span></span></span></span></div>\n\n<div helvetica="" style="box-sizing: border-box\; color: rgb(119\, 119\, 119)\; font-family: "><br />\n<span style="font-size:16px\;"><span style="font-family:tahoma\;"><span style="color:#DAA520\;"><span style="box-sizing: border-box\;"><strong style="box-sizing: border-box\; font-weight: bold\;"><span book="" style="box-sizing: border-box\; font-family: ">Community Service</span></strong></span></span></span></span></div>\n\n<div helvetica="" style="box-sizing: border-box\; color: rgb(119\, 119\, 119)\; font-family: "><span style="font-size:16px\;"><span style="font-family:tahoma\;"><span style="box-sizing: border-box\; color: rgb(0\, 0\, 0)\;"><strong style="box-sizing: border-box\; font-weight: bold\;"><span book="" style="box-sizing: border-box\; font-family: ">Denise Doring VanBuren</span></strong></span></span></span></div>\n\n<div helvetica="" style="box-sizing: border-box\; color: rgb(119\, 119\, 119)\; font-family: "><span style="font-size:16px\;"><span style="font-family:tahoma\;"><span book="" style="box-sizing: border-box\; font-family: ">Central Hudson Gas &amp\; Electric Corporation</span></span></span></div>\n\n<div helvetica="" style="box-sizing: border-box\; color: rgb(119\, 119\, 119)\; font-family: "><br style="box-sizing: border-box\;" />\n<span style="font-size:16px\;"><span style="font-family:tahoma\;"><span style="color:#DAA520\;"><span book="" style="box-sizing: border-box\; font-family: "><span style="box-sizing: border-box\;"><strong style="box-sizing: border-box\; font-weight: bold\;"><span style="box-sizing: border-box\;">Community Spirit</span></strong></span></span></span></span></span></div>\n\n<div helvetica="" style="box-sizing: border-box\; color: rgb(119\, 119\, 119)\; font-family: "><span style="color:#000000\;"><strong><span style="font-size:16px\;"><span style="font-family:tahoma\;"><span book="" style="box-sizing: border-box\; font-family: ">Foam &amp\; Wash Car Wash and Oil Change Plus</span></span></span></strong></span></div>\n\n<div helvetica="" style="box-sizing: border-box\; color: rgb(119\, 119\, 119)\; font-family: "><br style="box-sizing: border-box\;" />\n<span style="font-size:16px\;"><span style="font-family:tahoma\;"><span style="color:#DAA520\;"><span book="" style="box-sizing: border-box\; font-family: "><span style="box-sizing: border-box\;"><strong style="box-sizing: border-box\; font-weight: bold\;"><span style="box-sizing: border-box\;">Visionary</span></strong></span></span></span></span></span></div>\n\n<div helvetica="" style="box-sizing: border-box\; color: rgb(119\, 119\, 119)\; font-family: "><span style="font-size:16px\;"><span style="font-family:tahoma\;"><span style="box-sizing: border-box\; color: rgb(0\, 0\, 0)\;"><strong style="box-sizing: border-box\; font-weight: bold\;"><span book="" style="box-sizing: border-box\; font-family: ">Joseph T. Kirchhoff</span></strong></span></span></span></div>\n\n<div helvetica="" style="box-sizing: border-box\; color: rgb(119\, 119\, 119)\; font-family: "><span style="font-size:16px\;"><span style="font-family:tahoma\;"><span book="" style="box-sizing: border-box\; font-family: ">Kirchhoff Companies</span></span></span></div>\n\n<div helvetica="" style="box-sizing: border-box\; color: rgb(119\, 119\, 119)\; font-family: "><span style="font-size:16px\;"><span style="font-family:tahoma\;"><span book="" style="box-sizing: border-box\; font-family: ">&nbsp\;</span></span></span></div>\n\n<div helvetica="" style="box-sizing: border-box\; color: rgb(119\, 119\, 119)\; font-family: "><span style="font-size:16px\;"><span style="font-family:tahoma\;"><span style="color:#DAA520\;"><span style="box-sizing: border-box\;"><strong style="box-sizing: border-box\; font-weight: bold\;"><span book="" style="box-sizing: border-box\; font-family: ">Next Generation</span></strong></span></span></span></span><br />\n&nbsp\;</div>\n\n<div helvetica="" style="box-sizing: border-box\; color: rgb(119\, 119\, 119)\; font-family: "><span style="font-size:16px\;"><span style="font-family:tahoma\;"><span style="box-sizing: border-box\; color: rgb(0\, 0\, 0)\;"><strong style="box-sizing: border-box\; font-weight: bold\;"><span book="" style="box-sizing: border-box\; font-family: ">Sims &amp\; Associates Podiatry</span></strong></span></span></span></div>\n\n<div helvetica="" style="box-sizing: border-box\; color: rgb(119\, 119\, 119)\; font-family: "><span style="font-size:16px\;"><span style="font-family:tahoma\;"><span book="" style="box-sizing: border-box\; font-family: ">Dr. Erik Sims</span></span></span></div>\n\n<div helvetica="" style="box-sizing: border-box\; color: rgb(119\, 119\, 119)\; font-family: "><br />\n<span style="color:#000000\;"><strong><span style="font-size:18px\;">&amp\;</span></strong></span><br />\n<br style="box-sizing: border-box\;" />\n<span style="font-size:16px\;"><span style="font-family:tahoma\;"><span style="color:#000000\;"><span book="" style="box-sizing: border-box\; font-family: "><strong style="box-sizing: border-box\; font-weight: bold\;">Associates Golf Car Service\, Inc.</strong></span></span></span></span></div>\n\n<div helvetica="" style="box-sizing: border-box\; color: rgb(119\, 119\, 119)\; font-family: "><span style="font-size:16px\;"><span style="font-family:tahoma\;"><span book="" style="box-sizing: border-box\; font-family: ">Ann Marie Van Etten - Kania</span></span></span></div>\n\n<div helvetica="" style="box-sizing: border-box\; color: rgb(119\, 119\, 119)\; font-family: "><span style="font-size:16px\;"><span style="font-family:tahoma\;"><span book="" style="box-sizing: border-box\; font-family: ">Joseph Van Etten</span></span></span></div>\n\n<div helvetica="" style="box-sizing: border-box\; color: rgb(119\, 119\, 119)\; font-family: "><span style="font-size:16px\;"><span style="font-family:tahoma\;"><span book="" style="box-sizing: border-box\; font-family: ">John Van Etten</span></span></span></div>\n</div>\n\n<div style="text-align: center\; color: rgb(119\, 119\, 119)\; text-transform: none\; text-indent: 0px\; letter-spacing: normal\; font-size: 14px\; font-style: normal\; font-variant: normal\; font-weight: 400\; text-decoration: none\; word-spacing: 0px\; white-space: normal\; box-sizing: border-box\; orphans: 2\; background-color: transparent\; -webkit-text-stroke-width: 0px\;">&nbsp\;</div>\n\n<div style="text-align: center\;"><span style="font-size:16px\;"><span style="font-family:tahoma\;"><span style="color: rgb(0\, 0\, 0)\;">Our annual gala is a premier black-tie event\, featuring extended cocktail hour\, full three course dinner\, premium open bar and great music!</span></span></span></div>\n\n<div>&nbsp\;</div>\n\n<div style="text-align: center\;"><span style="font-size:16px\;"><span style="font-family:tahoma\;"><strong><span style="color:#FF0000\;">RSVP by January 31\, 2020</span></strong><br />\n<br />\n<span style="color: rgb(0\, 0\, 0)\;"><strong><u>Sponsors:</u><br />\n<br />\nGala Platinum Sponsor:</strong></span></span></span><br />\n<a href="http://www.keybank.com" style="font-family: tahoma\; font-size: 16px\; text-align: center\;">Keybank</a><br />\n<br />\n<span style="font-size:16px\;"><span style="font-family:tahoma\;"><span style="color: rgb(0\, 0\, 0)\;"><strong>Red Carpet:</strong></span></span></span><br />\n<span style="text-align: center\; color: rgb(0\, 0\, 0)\; font-family: tahoma\; font-size: 16px\;">&nbsp\;</span><a href="http://revel32.com" style="text-align: center\; font-family: tahoma\; font-size: 16px\;">Revel 32</a><br />\n<br />\n<strong><span style="font-family:tahoma\;"><span style="font-size:16px\;">Band:&nbsp\;</span></span></strong><br />\n<a href="http://www.animalfarmfoundation.org" style="text-align: center\; font-family: tahoma\; font-size: 16px\;">Animal Farm Foundation Inc.</a>&nbsp\;<br />\n<a href="http://www.marshallsterling.com" style="text-align: center\; font-family: tahoma\; font-size: 16px\;">Marshall &amp\; Sterling</a><a href="http://www.marshallsterling.com">&nbsp\;<span style="font-family:tahoma\;"><span style="font-size:16px\;">Insurance&nbsp\;</span></span></a><br />\n<font face="tahoma" style="text-align: center\; font-family: tahoma\; font-size: 16px\;"><a href="http://www.ulstersavings.com" style="text-align: center\; font-family: tahoma\; font-size: 16px\;">Ulster Saving</a></font><a href="http://www.ulstersavings.com"><font face="tahoma" style="text-align: center\; font-family: tahoma\; font-size: 16px\;"><span style="font-size: 16px\;">s Bank</span></font></a><br />\n<br />\n<span style="font-size:16px\;"><span style="font-family:tahoma\;"><span style="color: rgb(0\, 0\, 0)\;"><strong>Cocktail:</strong></span></span></span><br />\n<a href="https://www.salisburybank.com/riverside/" style="text-align: center\; font-family: tahoma\; font-size: 16px\;">Riverside Bank</a><br />\n<br />\n<span style="font-size:16px\;"><span style="font-family:tahoma\;"><span style="color: rgb(0\, 0\, 0)\;"><strong>Dessert:</strong></span></span></span><br />\n<a href="http://www.rhinebeckbank.com" style="text-align: center\; font-family: tahoma\; font-size: 16px\;"><font face="tahoma"><span style="font-size: 16px\;">Rhinebeck Bank</span></font></a><br />\n<br />\n<span style="font-size:16px\;"><span style="font-family:tahoma\;"><span style="color: rgb(0\, 0\, 0)\;"><strong>Dance:</strong></span></span></span><br />\n<a href="http://www.dchwappingerstoyota.com" style="text-align: center\; font-family: tahoma\; font-size: 16px\;">DCH Wappingers Falls Toyota&nbsp\;</a><br />\n<span style="font-family:tahoma\;"><span style="font-size:16px\;"><a href="http://www.jgspc.com">JGS\, CPA\, PC</a></span></span><br />\n<a href="http://www.mbwise.com" style="text-align: center\; font-family: tahoma\; font-size: 16px\;">Mackey Butts &amp\; Wise</a><br />\n<br />\n<span style="font-size:16px\;"><span style="font-family:tahoma\;"><span style="color: rgb(0\, 0\, 0)\;"><strong>Decor:</strong></span></span></span><br />\n<a href="http://www.adamsfarms.com" style="text-align: center\; font-family: tahoma\; font-size: 16px\;">Adams Fairacre Farm</a><br />\n<a href="http://www.hudsongm.com" style="text-align: center\; font-family: tahoma\; font-size: 16px\;">Hudson Buick-Cadillac-GMC</a><br />\n<a href="http://www.rondoutbank.com" style="text-align: center\; font-family: tahoma\; font-size: 16px\;">Rondout Savings Bank</a><br />\n<br />\n<span style="font-size:16px\;"><span style="font-family:tahoma\;"><b>Theme:</b></span></span><br />\n<a href="http://www.soconserv.com" style="text-align: center\; font-family: tahoma\; font-size: 16px\;">S&amp\;O Construction</a><br />\n<a href="http://www.rbtcpas.com/"><span style="font-family:tahoma\;"><span style="font-size:16px\;">RBT CPAs\, LLP</span></span></a><br />\n<a href="https://www.mahopacbank.com/" style="text-align: center\; font-family: tahoma\; font-size: 16px\;">Tompkins Mahopac Bank</a><br />\n<br />\n<strong><span style="font-family:tahoma\;"><span style="font-size:16px\;">Valet:</span></span></strong><br />\n<a href="http://www.foamandwash.com/"><span style="font-family:tahoma\;"><span style="font-size:16px\;">Foam and Wash&nbsp\;Car Wash</span></span></a><br />\n<br />\n<span style="font-family:tahoma\;"><span style="font-size:16px\;"><strong>Photo:</strong><br />\n<a href="https://www.poughkeepsiejournal.com/">Poughkeepsie Journal&nbsp\;Media</a><br />\n<br />\n<strong>Prize:</strong></span></span><br />\n<a href="http://www.kirchhoffcompanies.com" style="text-align: center\; font-family: tahoma\; font-size: 16px\;">Kirchhoff Companies</a><br />\n<br />\n<strong><span style="font-family:tahoma\;"><span style="font-size:16px\;">Award:</span></span></strong><br />\n<a href="http://www.desjewelers.com" style="text-align: center\; font-family: tahoma\; font-size: 16px\;">De&#39\;S Jewelers</a><br />\n<br />\n<strong><span style="font-family:tahoma\;"><span style="font-size:16px\;">Gold:</span></span></strong><br />\n<a href="http://www.cenhud.com"><span style="font-size:16px\;"><span style="font-family:tahoma\;">Central Hudson&nbsp\;Gas &amp\; Electric</span></span></a><br />\n<a href="http://www.ies-ny.com" style="text-align: center\; font-family: tahoma\; font-size: 16px\;">Integrated Enterprise Solutions\, INC.</a><br />\n<a href="https://start.docuware.com/" style="text-align: center\; font-family: tahoma\; font-size: 16px\;">DocuWare Corporation</a><br />\n<a href="http://www.mtb.com"><span style="font-family:tahoma\;"><span style="font-size:16px\;">M&amp\;T Bank\, Hudson Valley Division</span></span></a><br />\n<a href="http://www.nssupply.com" style="text-align: center\; font-family: tahoma\; font-size: 16px\;">N&amp\;S Supply</a><br />\n<a href="http://www.poughkeepsiegalleriamall.com" style="text-align: center\; font-family: tahoma\; font-size: 16px\;">Poughkeepsie Galleria</a><br />\n<br />\n<strong><span style="font-family:tahoma\;"><span style="font-size:16px\;">Centerpiece:</span></span></strong><br />\n<a href="http://www.blacktopmaintenance.com"><span style="font-family:tahoma\;"><span style="font-size:16px\;">Blacktop Maintenance<span style="text-align: center\;">&nbsp\;Corporation</span></span></span></a><br />\n<a href="http://www.srddlaw.com" style="font-family: tahoma\; font-size: 16px\; text-align: center\;">Stenger\, Roberts\, Davis &amp\; Diamond LLP - SRDD&nbsp\;Law</a><br />\n<a href="http://www.hvfcu.org" style="text-align: center\; font-family: tahoma\; font-size: 16px\;">Hudson Valley Credit Union</a><br />\n<a href="http://www.soconserv.com" style="text-align: center\; font-family: tahoma\; font-size: 16px\;">Rose &amp\; Kiern</a><a href="http://www.rkinsurance.com" style="text-align: center\; font-family: tahoma\; font-size: 16px\;">an\, Inc.</a><br />\n<br />\n<strong><span style="font-family:tahoma\;"><span style="font-size:16px\;">Silver:</span></span></strong><br />\n<a href="http://www.caremountmedical.com/locations" style="text-align: center\; font-family: tahoma\; font-size: 16px\;">CareMount Medical\, P.C.</a><br />\n<a href="http://www.pkfod.com" style="text-align: center\; font-family: tahoma\; font-size: 16px\;">PKF O&#39\;Connor Davies\, LLP</a><br />\n<a href="http://www.meyercontracting.com" style="text-align: center\; font-family: tahoma\; font-size: 16px\;">Meyer Contracting Corporation</a><br />\n<a href="http://www.tegfcu.com" style="text-align: center\; font-family: tahoma\; font-size: 16px\;">TEG Federal Credit Union</a><br />\n<a href="http://www.royalcarting.com" style="text-align: center\; font-family: tahoma\; font-size: 16px\;">Royal Carting Service Company</a><br />\n<br />\n<br />\n&nbsp\;</div>\n
LOCATION:The Grandview 176 Rinaldi Boulevard Poughkeepsie\, NY 12601
UID:e.2770.10481025
SEQUENCE:3
DTSTAMP:20260422T103514Z
URL:http://dutchesscountyregional.smartcms.site/events/details/2020-hollywood-on-the-hudson-gala-10481025
END:VEVENT

END:VCALENDAR
