BEGIN:VCALENDAR
VERSION:2.0
PRODID:-//ChamberMaster//Event Calendar 2.0//EN
METHOD:PUBLISH
X-PUBLISHED-TTL:P3D
REFRESH-INTERVAL:P3D
CALSCALE:GREGORIAN
BEGIN:VEVENT
DTSTART:20201205T050000Z
DTEND:20201205T170000Z
X-MICROSOFT-CDO-ALLDAYEVENT:FALSE
SUMMARY:2020 Mariapolis Luminosa International Nativity Display
DESCRIPTION:This year the Focolare Movement at Mariapolis Luminosa will be presenting their 2020 International Nativity Display virtually. Each week during Advent a different episode will be presented. Please visit our Virtual Nativity Display (link below) and share this gift with your family\, friends and coleagus: .\n\n https://youtu.be/hD27EcYrzdE\n\nWe wish you and your families a wonderful Advent and Christmas season. For more information\, visit https://www.focolare.org/mariapolisluminosa/
X-ALT-DESC;FMTTYPE=text/html:<p>This year the Focolare Movement at Mariapolis Luminosa will be presenting their 2020 International Nativity Display virtually. Each week during Advent a different episode will be presented. Please visit our Virtual Nativity Display (link below) and share this gift with your family\, friends and coleagus: .<br />\n&nbsp\;https://youtu.be/hD27EcYrzdE</p>\n\n<p>We wish you and your families a wonderful Advent and Christmas season. For more information\, visit https://www.focolare.org/mariapolisluminosa/</p>\n
LOCATION:
UID:e.2770.10484799
SEQUENCE:3
DTSTAMP:20260421T180214Z
URL:http://dutchesscountyregional.smartcms.site/events/details/2020-mariapolis-luminosa-international-nativity-display-12-05-2020-10484799
END:VEVENT

END:VCALENDAR
