BEGIN:VCALENDAR
VERSION:2.0
PRODID:-//ChamberMaster//Event Calendar 2.0//EN
METHOD:PUBLISH
X-PUBLISHED-TTL:P3D
REFRESH-INTERVAL:P3D
CALSCALE:GREGORIAN
BEGIN:VEVENT
DTSTART:20200925T200000Z
DTEND:20200928T000000Z
X-MICROSOFT-CDO-ALLDAYEVENT:FALSE
SUMMARY:29th Annual Hudson Valley Hot-Air Balloon Festival
DESCRIPTION:#hvballoonfest\n\nFollow us on social media for updates all weekend!\n\nComplete event information at balloonfesthv.com\n\n\nEvent Sponsors:\n\nBottini Fuel\n\nQ92.1 FM\n\n\n\nHot-line Sponsor:\n\nCentral Hudson Gas & Electric Corporation\n\n\n\nBalloon Sponsors:\n\nAdams Fairacre Farms\n\nAnimal Farm Foundation\n\nAtlas Star\n\nChase\n\nDCH Wappinger Falls Toyota\n\nHudson Valley Credit Union\n\nIES\n\nKeyBank\n\nMid-Hudson Valley Federal Credit Union\n\nMobile Life Support Services\, Inc\n\nPoughkeepsie Galleria\n\nPoughkeepsie Grand Hotel\n\nPrager Metis\n\nQuES&T\n\nRBT CPAs\n\nRoyal Carting\n\nUlster Savings Bank\n\n\n\nBalloon Tribune Sponsors:\n\nCPL \n\nRondout Savings Bank\n\n\n\nMedia Sponsor:\n\nPoughkeepsie Journal\n\n\n\nMoon Glow Sponsor:\n\nSloop Brewing Co.\n\n\n\nSpecial Thanks!\n\n\n\nTown of Union Vale\n\nMichele and Roger Hooper\n\nDutchess County Government\n\nDutchess Tourism\n\nEmcee Geoff Brault
X-ALT-DESC;FMTTYPE=text/html:<h1 style="text-align: center\;"><span style="font-size:24px\;"><span style="font-family:times new roman\;">#hvballoonfest</span></span></h1>\n\n<h3 style="text-align: center\;"><span style="font-size:20px\;"><span style="font-family:times new roman\;">Follow us on social media for updates all weekend!</span></span></h3>\n\n<h1 style="text-align: center\;"><span style="font-size:20px\;"><span style="font-family:times new roman\;"><strong>Complete event information at <a href="https://www.dcrcoc.org/balloonfesthv.org" target="_blank"><span style="color:#0000FF\;">balloonfesthv.com</span></a></strong></span></span></h1>\n<br />\n<font color="#000000" face="times new roman"><span style="font-size: 20px\;"><i><u>Event Sponsors</u>:</i></span></font><br />\n<span style="font-size:18px\;"><strong><a href="http://www.bottinifuel.com/" target="_blank"><span style="color:#0000FF\;"><span style="font-family:times new roman\;">Bottini Fuel</span></span></a><br />\n<a href="https://q92hv.iheart.com/" target="_blank"><span style="color:#0000FF\;"><span style="font-family:times new roman\;">Q92.1 FM</span></span></a></strong></span><br />\n<br />\n<i style="color: rgb(0\, 0\, 0)\; font-family: &quot\;times new roman&quot\;\; font-size: 20px\;"><u>Hot-line Sponsor</u>:</i><br />\n<a href="https://www.cenhud.com/" target="_blank"><span style="color:#0000FF\;"><span style="font-size:18px\;"><span style="font-family:times new roman\;"><strong>Central Hudson Gas &amp\; Electric Corporation</strong></span></span></span></a><br />\n<br />\n<i style="color: rgb(0\, 0\, 0)\; font-family: &quot\;times new roman&quot\;\; font-size: 20px\;"><u>Balloon Sponsors</u>:</i><br />\n<strong><span style="font-size:18px\;"><span style="font-family:times new roman\;"><a href="https://adamsfarms.com/" target="_blank"><span style="color:#0000FF\;">Adams Fairacre Farms</span></a><br />\n<a href="https://animalfarmfoundation.org/" target="_blank"><span style="color:#0000FF\;">Animal Farm Foundation</span></a><br />\n<a href="https://www.atlastar.com/" target="_blank"><span style="color:#0000FF\;">Atlas Star</span></a><br />\n<a href="https://www.chase.com/" target="_blank"><span style="color:#0000FF\;">Chase</span></a><br />\n<a href="https://www.dchwappingerstoyota.com/?utm_source=google&amp\;utm_medium=organic&amp\;utm_campaign=googlemybusiness" target="_blank"><span style="color:#0000FF\;">DCH Wappinger Falls Toyota</span></a><br />\n<a href="https://www.hvcu.org/" target="_blank"><span style="color:#0000FF\;">Hudson Valley Credit Union</span></a><br />\n<a href="https://ies-ny.com/" target="_blank"><span style="color:#0000FF\;">IES</span></a><br />\n<a href="https://www.key.com/small-business/index.jsp" target="_blank"><span style="color:#0000FF\;">KeyBank</span></a><br />\n<a href="https://www.mhvfcu.com/?gclid=EAIaIQobChMI0fW5tZS86wIVTJyzCh36QQWvEAAYASAAEgKv4fD_BwE" target="_blank"><span style="color:#0000FF\;">Mid-Hudson Valley Federal Credit Union</span></a><br />\n<a href="http://www.mobilelife.com/" target="_blank"><span style="color:#0000FF\;">Mobile Life Support Services\, Inc</span></a><br />\n<a href="https://www.poughkeepsiegalleriamall.com/directory/" target="_blank"><span style="color:#0000FF\;">Poughkeepsie Galleria</span></a><br />\n<a href="https://www.pokgrand.com/" target="_blank"><span style="color:#0000FF\;">Poughkeepsie Grand Hotel</span></a><br />\n<a href="https://pragermetis.com/" target="_blank"><span style="color:#0000FF\;">Prager Metis</span></a><br />\n<a href="https://www.qualityenv.com/" target="_blank"><span style="color:#0000FF\;">QuES&amp\;T</span></a><br />\n<a href="https://www.rbtcpas.com/" target="_blank"><span style="color:#0000FF\;">RBT CPAs</span></a><br />\n<a href="https://www.royalcarting.us/" target="_blank"><span style="color:#0000FF\;">Royal Carting</span></a><br />\n<a href="http://www.ulstersavings.com" target="_blank"><span style="color:#0000FF\;">Ulster Savings Bank</span></a></span></span></strong><br />\n<br />\n<i style="color: rgb(0\, 0\, 0)\; font-family: &quot\;times new roman&quot\;\; font-size: 20px\;"><u>Balloon Tribune Sponsors</u>:</i><br />\n<strong><span style="font-size:18px\;"><span style="font-family:times new roman\;"><a href="http://cplteam.com/" target="_blank"><span style="color:#0000FF\;">CPL&nbsp\;</span></a><br />\n<a href="https://www.rondoutbank.com/" target="_blank"><span style="color:#0000FF\;">Rondout Savings Bank</span></a></span></span></strong><br />\n<br />\n<i style="color: rgb(0\, 0\, 0)\; font-family: &quot\;times new roman&quot\;\; font-size: 20px\;"><u>Media Sponsor</u>:</i><br />\n<span style="font-family:times new roman\;"><a href="https://www.poughkeepsiejournal.com/" target="_blank"><span style="color:#0000FF\;"><strong><span style="font-size:18px\;">Poughkeepsie Journal</span></strong></span></a></span><br />\n<br />\n<i style="color: rgb(0\, 0\, 0)\; font-family: &quot\;times new roman&quot\;\; font-size: 20px\;"><u>Moon Glow Sponsor</u>:</i><br />\n<a href="https://www.sloopbrewing.com/shop/" target="_blank"><span style="color:#0000FF\;"><span style="font-family: &quot\;times new roman&quot\;\;"><strong><span style="font-size: 18px\;">Sloop Brewing Co.</span></strong></span></span></a><br />\n<br />\n<span style="font-family:times new roman\;"><em><span style="font-size:20px\;"><span style="color:#000000\;"><u>Special Thanks</u>!</span></span></em></span><br />\n<br />\n<strong><span style="background:white\;"><span style="color:#333333\;"><span style="font-family:times new roman\,serif\;"><span style="font-size:14.0pt\;"><strong>Town of Union Vale<br />\nMichele and Roger Hooper</strong><br />\n<strong>Dutchess County Government</strong><br />\n<strong>Dutchess Tourism</strong><br />\n<strong>Emcee Geoff Brault</strong></span></span></span></span></strong><br />\n&nbsp\;
LOCATION:Tymor Park 249 Duncan Road LaGrangeville\, NY
UID:e.2770.10481458
SEQUENCE:3
DTSTAMP:20260421T230648Z
URL:http://dutchesscountyregional.smartcms.site/events/details/29th-annual-hudson-valley-hot-air-balloon-festival-10481458
END:VEVENT

END:VCALENDAR
