BEGIN:VCALENDAR
VERSION:2.0
PRODID:-//ChamberMaster//Event Calendar 2.0//EN
METHOD:PUBLISH
X-PUBLISHED-TTL:P3D
REFRESH-INTERVAL:P3D
CALSCALE:GREGORIAN
BEGIN:VEVENT
DTSTART:20190518T150000Z
DTEND:20190518T200000Z
X-MICROSOFT-CDO-ALLDAYEVENT:FALSE
SUMMARY:2nd Annual Go Topless Day® at Hunter Mtn
DESCRIPTION:Jeep Love. Jeep Envy. Jeep Drive. Jeep Stuff.\n\nGrab your family & friends and head to Hunter Mountain as we celebrate the arrival of Spring with our 2nd official Extreme Terrain Jeep Go Topless Day  (formerly All Things Jeep). Half the fun is getting here\; all roads leading to Hunter are picturesque\, winding and just plain old fun to drive\, especially topless. Shed the winter blues and enjoy your Jeep as it was meant to be with the beautiful Great Northern Catskills as our backdrop.\n\nNo Jeep? No worries\, join us anyway to celebrate the return of spring at Hunter Mountain.\n\n. 30 minute off-road tour (length and route based on trail conditions)\n\n. Off-Road gear demonstrations\n\n. Raffle prizes\n\n. Vendors\n\n. Food Trucks\n\n. 2019 Adventure Expo & Tour discounts available
X-ALT-DESC;FMTTYPE=text/html:<p><strong><em>Jeep Love. Jeep Envy. Jeep Drive. Jeep Stuff.</em></strong><br />\nGrab your family &amp\; friends and head to Hunter Mountain as we celebrate the arrival of Spring with our 2nd official Extreme Terrain Jeep Go Topless Day&reg\; (formerly All Things Jeep). Half the fun is getting here\; all roads leading to Hunter are picturesque\, winding and just plain old fun to drive\, especially topless. Shed the winter blues and enjoy your Jeep as it was meant to be with the beautiful Great Northern Catskills as our backdrop.<br />\nNo Jeep? No worries\, join us anyway to celebrate the return of spring at Hunter Mountain.</p>\n\n<p>. 30 minute off-road tour (length and route based on trail conditions)<br />\n. Off-Road gear demonstrations<br />\n. Raffle prizes<br />\n. Vendors<br />\n. Food Trucks<br />\n. 2019 Adventure Expo &amp\; Tour discounts available</p>\n
LOCATION:Hunter Mountain Ski Bowl\, Hunter NY
UID:e.2770.10480769
SEQUENCE:3
DTSTAMP:20260423T035040Z
URL:http://dutchesscountyregional.smartcms.site/events/details/2nd-annual-go-topless-day-at-hunter-mtn-10480769
END:VEVENT

END:VCALENDAR
