BEGIN:VCALENDAR
VERSION:2.0
PRODID:-//ChamberMaster//Event Calendar 2.0//EN
METHOD:PUBLISH
X-PUBLISHED-TTL:P3D
REFRESH-INTERVAL:P3D
CALSCALE:GREGORIAN
BEGIN:VEVENT
DTSTART:20190508T150000Z
DTEND:20190508T190000Z
X-MICROSOFT-CDO-ALLDAYEVENT:FALSE
SUMMARY:2nd Annual Hudson Valley Veterans Job Fair
DESCRIPTION:Open to all Veterans\, active service Guard and Reserves and any family member residing throughout the entire Hudson Valley. Over sixty businesses from Albany to White Plains will be there hiring for over 1000 job openings including those in management\, computer science/technology\; healthcare and human services\; construction\, transportation and more!
X-ALT-DESC;FMTTYPE=text/html:Open to all Veterans\, active service Guard and Reserves and any family member residing throughout the entire Hudson Valley. Over sixty businesses from Albany to White Plains will be there hiring for over 1000 job openings including those in management\, computer science/technology\; healthcare and human services\; construction\, transportation and more!
LOCATION:SUNY New Paltz Athletic & Wellness Center\, Southside Loop\, New Paltz.
UID:e.2770.10480671
SEQUENCE:3
DTSTAMP:20260423T035214Z
URL:http://dutchesscountyregional.smartcms.site/events/details/2nd-annual-hudson-valley-veterans-job-fair-10480671
END:VEVENT

END:VCALENDAR
