BEGIN:VCALENDAR
VERSION:2.0
PRODID:-//ChamberMaster//Event Calendar 2.0//EN
METHOD:PUBLISH
X-PUBLISHED-TTL:P3D
REFRESH-INTERVAL:P3D
CALSCALE:GREGORIAN
BEGIN:VEVENT
DTSTART:20200323T220000Z
DTEND:20200324T010000Z
X-MICROSOFT-CDO-ALLDAYEVENT:FALSE
SUMMARY:4 Goals 4 LinkedIn 4 Business (Webinar)
DESCRIPTION:How to find clients on Linked\n	\n	\n	Learn the correct way to connect for value\n	\n	\n	Proven tips and hacks to construct a value-centric profile\n	\n	\n	Move your profile from a resume to a resource\n	\n\n\nFollow along with your laptop and work on your profile during the session.
X-ALT-DESC;FMTTYPE=text/html:<ul>\n	<li>\n	<p><span style="font-size:16px">How to find clients on Linked</span></p>\n	</li>\n	<li>\n	<p><span style="font-size:16px">Learn the correct way to connect for value</span></p>\n	</li>\n	<li>\n	<p><span style="font-size:16px">Proven tips and hacks to construct a value-centric profile</span></p>\n	</li>\n	<li>\n	<p><span style="font-size:16px">Move your profile from a resume to a resource</span></p>\n	</li>\n</ul>\n\n<p><span style="font-size:16px">Follow along with your laptop and work on your profile during the session.</span></p>\n
LOCATION:Online Webinar
UID:e.2770.10481485
SEQUENCE:3
DTSTAMP:20260422T090610Z
URL:http://dutchesscountyregional.smartcms.site/events/details/4-goals-4-linkedin-4-business-10481485
END:VEVENT

END:VCALENDAR
