BEGIN:VCALENDAR
VERSION:2.0
PRODID:-//ChamberMaster//Event Calendar 2.0//EN
METHOD:PUBLISH
X-PUBLISHED-TTL:P3D
REFRESH-INTERVAL:P3D
CALSCALE:GREGORIAN
BEGIN:VEVENT
DTSTART;VALUE=DATE:20190302
DTEND;VALUE=DATE:20190303
TRANSP:TRANSPARENT
X-MICROSOFT-CDO-ALLDAYEVENT:TRUE
SUMMARY:6th Annual - Indoor Golf Tournament
DESCRIPTION:Mental Health America of Dutchess County's 6th annual event that includes 18 holes of simulated golf\, catered meal\, prizes\, & golf shirt ~ choice of tee times and many sponsorship levels available
X-ALT-DESC;FMTTYPE=text/html:Mental Health America of Dutchess County&#39\;s 6th annual event that includes 18 holes of simulated golf\, catered meal\, prizes\, &amp\; golf shirt ~ choice of tee times and many sponsorship levels available
LOCATION:DC Indoor Golf\, 10 Crannell Street\, Poughkeepsie NY
UID:e.2770.10480471
SEQUENCE:3
DTSTAMP:20260423T072104Z
URL:http://dutchesscountyregional.smartcms.site/events/details/6th-annual-indoor-golf-tournament-10480471
END:VEVENT

END:VCALENDAR
