BEGIN:VCALENDAR
VERSION:2.0
PRODID:-//ChamberMaster//Event Calendar 2.0//EN
METHOD:PUBLISH
X-PUBLISHED-TTL:P3D
REFRESH-INTERVAL:P3D
CALSCALE:GREGORIAN
BEGIN:VEVENT
DTSTART:20180505T150000Z
DTEND:20180505T173000Z
X-MICROSOFT-CDO-ALLDAYEVENT:FALSE
SUMMARY:9th Annual Hudson Valley Stroll for Epilepsy
DESCRIPTION:Fundraising event to benefit the Epilepsy Foundation of Northeastern New York. All funds will stay "local" and will support the programs and services offered by EFNENY at no cost to an estimated 11\,000 people with epilepsy in the Upper Hudson Valley Region. Participants will enjoy the views of the Hudson River as they stroll through Bowdoin Park\, as well as lunch\, silent auction items\, children's activities\, a face painter\, and music provided by "The Hudson Valley's #1 Hit Music Station" 96.1 KISS FM and iHeart Media.
X-ALT-DESC;FMTTYPE=text/html:Fundraising event to benefit the Epilepsy Foundation of Northeastern New York. All funds will stay &quot\;local&quot\; and will support the programs and services offered by EFNENY at no cost to an estimated 11\,000 people with epilepsy in the Upper Hudson Valley Region. Participants will enjoy the views of the Hudson River as they stroll through Bowdoin Park\, as well as lunch\, silent auction items\, children&#39\;s activities\, a face painter\, and music provided by &quot\;The Hudson Valley&#39\;s #1 Hit Music Station&quot\; 96.1 KISS FM and iHeart Media.
LOCATION:Dutchess County Bowdoin Park Pavilion #2 - 85 Sheafe Road Wappingers Falls\, NY
UID:e.2770.10476914
SEQUENCE:3
DTSTAMP:20260426T034224Z
URL:http://dutchesscountyregional.smartcms.site/events/details/9th-annual-hudson-valley-stroll-for-epilepsy-10476914
END:VEVENT

END:VCALENDAR
