BEGIN:VCALENDAR
VERSION:2.0
PRODID:-//ChamberMaster//Event Calendar 2.0//EN
METHOD:PUBLISH
X-PUBLISHED-TTL:P3D
REFRESH-INTERVAL:P3D
CALSCALE:GREGORIAN
BEGIN:VEVENT
DTSTART:20200215T160000Z
DTEND:20200215T200000Z
X-MICROSOFT-CDO-ALLDAYEVENT:FALSE
SUMMARY:A Heart Healthy Event
DESCRIPTION:The Poughkeepsie Plaza presents a heart healthy event. Family fun event focusing on heart health\, physical and emotional take away information\, CPR demos\, blood pressure screening and kids' activities.
X-ALT-DESC;FMTTYPE=text/html:The Poughkeepsie Plaza presents a heart healthy event. Family fun event focusing on heart health\, physical and emotional take away information\, CPR demos\, blood pressure screening and kids&#39\; activities.
LOCATION:Poughkeepsie Plaza 2600 South Road Poughkeepsie\, NY 12601
UID:e.2770.10482655
SEQUENCE:3
DTSTAMP:20260422T103338Z
URL:http://dutchesscountyregional.smartcms.site/events/details/a-heart-healthy-event-10482655
END:VEVENT

END:VCALENDAR
