BEGIN:VCALENDAR
VERSION:2.0
PRODID:-//ChamberMaster//Event Calendar 2.0//EN
METHOD:PUBLISH
X-PUBLISHED-TTL:P3D
REFRESH-INTERVAL:P3D
CALSCALE:GREGORIAN
BEGIN:VEVENT
DTSTART:20200618T150000Z
DTEND:20200618T160000Z
X-MICROSOFT-CDO-ALLDAYEVENT:FALSE
SUMMARY:Adjusting Your Business Development Strategy
DESCRIPTION:Reignite Your Business Webinar Series As a business owner\, there are so many factors to consider as you prep for re-opening. To help you tackle some of those\, we've put together ReIgnite Your Business\, a series of webinars designed to get you the expert guidance you'll need on this new journey. From adapting your business development strategy to increasing online presence\, each session is geared towards providing you with the essential tools for success. Description: Growing your business is more critical - and confusing - than ever. In this seminar\, we'll help you step up your business development tactics by capitalizing on your unique expertise. When: Thursday\, June 18 @ 11:00 AM Hosted By: Sarah Short\, MHV Financial Education Specialist Presented By: Michael Mattone\, MHV VP of Community Impact Other sessions of this webinar series include: Managing Your Finances\, Increasing Your Online Presence\, and Developing a New Marketing Plan. Sign up at mhvfcu.com/seminars
X-ALT-DESC;FMTTYPE=text/html:Reignite Your Business Webinar Series As a business owner\, there are so many factors to consider as you prep for re-opening. To help you tackle some of those\, we&rsquo\;ve put together ReIgnite Your Business\, a series of webinars designed to get you the expert guidance you&rsquo\;ll need on this new journey. From adapting your business development strategy to increasing online presence\, each session is geared towards providing you with the essential tools for success. Description: Growing your business is more critical - and confusing - than ever. In this seminar\, we&#39\;ll help you step up your business development tactics by capitalizing on your unique expertise. When: Thursday\, June 18 @ 11:00 AM Hosted By: Sarah Short\, MHV Financial Education Specialist Presented By: Michael Mattone\, MHV VP of Community Impact Other sessions of this webinar series include: Managing Your Finances\, Increasing Your Online Presence\, and Developing a New Marketing Plan. Sign up at mhvfcu.com/seminars
LOCATION:Webinar
UID:e.2770.10483311
SEQUENCE:3
DTSTAMP:20260422T034731Z
URL:http://dutchesscountyregional.smartcms.site/events/details/adjusting-your-business-development-strategy-10483311
END:VEVENT

END:VCALENDAR
