BEGIN:VCALENDAR
VERSION:2.0
PRODID:-//ChamberMaster//Event Calendar 2.0//EN
METHOD:PUBLISH
X-PUBLISHED-TTL:P3D
REFRESH-INTERVAL:P3D
CALSCALE:GREGORIAN
BEGIN:VEVENT
DTSTART:20181212T230000Z
DTEND:20181213T010000Z
X-MICROSOFT-CDO-ALLDAYEVENT:FALSE
SUMMARY:Adriance Library - Aumente Sus Ventas a Través de Redes Sociales y Sitio Web
DESCRIPTION:Increase Your Sales Through Social Networks and Website\n\nAumente Sus Ventas a Trav s de Redes Sociales y Sitio Web\n\n\n\nEn este taller gratis aprender  acerca de:\n\nSitios Web\n\n   Qu  es un sitio web? \n\n   Por qu  es necesario tener un sitio web para su empresa?\n\n  Ventajas y desventajas de hacer su propio sitio web\n\n  Comparaci n de la experiencia entre hacerlo usted y contratar a alguien\n\n\n\nRedes Sociales\n\n  Facebook\, Twitter\, LinkedIn\, Instagram\, y Pinterest\n\n   Qui n es el p blico para cada uno?\n\n   Cu l es la mejor plataforma para su negocio?
X-ALT-DESC;FMTTYPE=text/html:<div><span style="color: rgb(33\, 33\, 33)\; font-family: Roboto\, arial\, sans-serif\; font-size: 16px\; white-space: pre-wrap\; background-color: rgb(255\, 255\, 255)\;">Increase Your Sales Through Social Networks and Website</span><br />\n<font color="#212121" face="Roboto\, arial\, sans-serif"><span style="font-size: 16px\; white-space: pre-wrap\;">Aumente Sus Ventas a Trav&eacute\;s de Redes Sociales y Sitio Web</span></font><br />\n<br />\n<span style="font-size:16px"><em><span style="font-family:calibri">En este taller gratis </span></em><em><span style="font-family:calibri">aprender&aacute\;</span></em><em><span style="font-family:calibri"> acerca de</span></em>:<br />\n<strong><span style="font-family:calibri">Sitio</span></strong><strong><span style="font-family:calibri">s</span></strong><strong><span style="font-family:calibri"> Web</span></strong><br />\n<span style="color:black"><span style="font-family:symbol">&middot\;</span></span>&nbsp\;<span style="font-family:calibri">&iquest\;</span><span style="font-family:calibri">Qu</span><span style="font-family:calibri">&eacute\;</span><span style="font-family:calibri"> es un sitio web? </span><br />\n<span style="color:black"><span style="font-family:symbol">&middot\;</span></span>&nbsp\;<span style="font-family:calibri">&iquest\;Por qu&eacute\; es necesario tener un sitio web para su empresa?</span><br />\n<span style="color:black"><span style="font-family:symbol">&middot\;</span></span>&nbsp\;<span style="font-family:calibri">Ventajas y desventajas de hacer su propio sitio web</span><br />\n<span style="color:black"><span style="font-family:symbol">&middot\;</span></span>&nbsp\;<span style="font-family:calibri">Comparaci</span><span style="font-family:calibri">&oacute\;</span><span style="font-family:calibri">n de </span><span style="font-family:calibri">l</span><span style="font-family:calibri">a experiencia</span> <span style="font-family:calibri">entre</span> <span style="font-family:calibri">hacerlo uste</span><span style="font-family:calibri">d </span><span style="font-family:calibri">y</span> <span style="font-family:calibri">contratar</span><span style="font-family:calibri"> a </span><span style="font-family:calibri">alguien</span><br />\n<br />\n<strong><span style="font-family:calibri">Redes Sociales</span></strong><br />\n<span style="color:black"><span style="font-family:symbol">&middot\;</span></span>&nbsp\;<span style="font-family:calibri">Facebook\, Twitter\, LinkedIn\, Instagram\, y Pinterest</span><br />\n<span style="color:black"><span style="font-family:symbol">&middot\;</span></span>&nbsp\;<span style="font-family:calibri">&iquest\;</span><span style="font-family:calibri">Qui&eacute\;n es el p&uacute\;blico para cada uno?</span><br />\n<span style="color:black"><span style="font-family:symbol">&middot\;</span></span>&nbsp\;<span style="font-family:calibri">&iquest\;</span><span style="font-family:calibri">Cu&aacute\;l es la mejor plataforma para su n</span><span style="font-family:calibri">egocio?</span><br />\n&nbsp\;</span></div>\n
LOCATION:Adriance Memorial Library 93 Market St. Poughkeepsie\, NY 12601
UID:e.2770.10479800
SEQUENCE:3
DTSTAMP:20260425T142522Z
URL:http://dutchesscountyregional.smartcms.site/events/details/adriance-library-aumente-sus-ventas-a-trav&#233;s-de-redes-sociales-y-sitio-web-10479800
END:VEVENT

END:VCALENDAR
