BEGIN:VCALENDAR
VERSION:2.0
PRODID:-//ChamberMaster//Event Calendar 2.0//EN
METHOD:PUBLISH
X-PUBLISHED-TTL:P3D
REFRESH-INTERVAL:P3D
CALSCALE:GREGORIAN
BEGIN:VEVENT
DTSTART:20181113T143000Z
DTEND:20181113T173000Z
X-MICROSOFT-CDO-ALLDAYEVENT:FALSE
SUMMARY:Adriance Library: Processing Through Painting
DESCRIPTION:Work with an arts educator from The Art Effect to examine emotionally complex passages in the Big Read literature. After discussion\, create an abstract painting that reflects the literary landscape. No previous experience necessary. All supplies/materials provided\, space limited. Registration required. FREE - For adults
X-ALT-DESC;FMTTYPE=text/html:Work with an arts educator from The Art Effect to examine emotionally complex passages in the Big Read literature. After discussion\, create an abstract painting that reflects the literary landscape. No previous experience necessary. All supplies/materials provided\, space limited. Registration required. FREE - For adults
LOCATION:Adriance Library 21 Market Street Poughkeepsie NY 12601
UID:e.2770.10479784
SEQUENCE:3
DTSTAMP:20260425T160330Z
URL:http://dutchesscountyregional.smartcms.site/events/details/adriance-library-processing-through-painting-10479784
END:VEVENT

END:VCALENDAR
