BEGIN:VCALENDAR
VERSION:2.0
PRODID:-//ChamberMaster//Event Calendar 2.0//EN
METHOD:PUBLISH
X-PUBLISHED-TTL:P3D
REFRESH-INTERVAL:P3D
CALSCALE:GREGORIAN
BEGIN:VEVENT
DTSTART:20181127T223000Z
DTEND:20181127T233000Z
X-MICROSOFT-CDO-ALLDAYEVENT:FALSE
SUMMARY:Advances in Lung Cancer
DESCRIPTION:November is Lung Cancer Awareness Month! Dr. Ponciano Reyes of Hudson Valley Cancer Center facilitates a discussion and answers your questions about Lung Cancer.
X-ALT-DESC;FMTTYPE=text/html:November is Lung Cancer Awareness Month! Dr. Ponciano Reyes of Hudson Valley Cancer Center facilitates a discussion and answers your questions about Lung Cancer.
LOCATION:Hudson Valley Cancer Center 159 Barnegat Rd. Poughkeepsie 2nd floor Conference Room
UID:e.2770.10479865
SEQUENCE:3
DTSTAMP:20260425T160339Z
URL:http://dutchesscountyregional.smartcms.site/events/details/advances-in-lung-cancer-10479865
END:VEVENT

END:VCALENDAR
