BEGIN:VCALENDAR
VERSION:2.0
PRODID:-//ChamberMaster//Event Calendar 2.0//EN
METHOD:PUBLISH
X-PUBLISHED-TTL:P3D
REFRESH-INTERVAL:P3D
CALSCALE:GREGORIAN
BEGIN:VEVENT
DTSTART:20191130T230000Z
DTEND:20191201T033000Z
X-MICROSOFT-CDO-ALLDAYEVENT:FALSE
SUMMARY:AKA - Iota Alpha Omega Chapter's 50th Anniversary Gala
DESCRIPTION:Join the members of AKA - Iota Alpha Omega Chapter\, in collaboration with the Mid-Hudson Ivy Foundation\, Inc. (501(c)(3))\, as the Chapter celebrates 50 years of service in the Mid-Hudson Valley. All proceeds from the Gala benefit scholarships for local\, graduating\, college bound high school seniors.
X-ALT-DESC;FMTTYPE=text/html:Join the members of AKA - Iota Alpha Omega Chapter\, in collaboration with the Mid-Hudson Ivy Foundation\, Inc. (501(c)(3))\, as the Chapter celebrates 50 years of service in the Mid-Hudson Valley. All proceeds from the Gala benefit scholarships for local\, graduating\, college bound high school seniors.
LOCATION:Eisenhower Hall 665 Pitcher Road West Point\, NY 10996
UID:e.2770.10480995
SEQUENCE:3
DTSTAMP:20260422T154952Z
URL:http://dutchesscountyregional.smartcms.site/events/details/aka-iota-alpha-omega-chapter-s-50th-anniversary-gala-10480995
END:VEVENT

END:VCALENDAR
