BEGIN:VCALENDAR
VERSION:2.0
PRODID:-//ChamberMaster//Event Calendar 2.0//EN
METHOD:PUBLISH
X-PUBLISHED-TTL:P3D
REFRESH-INTERVAL:P3D
CALSCALE:GREGORIAN
BEGIN:VEVENT
DTSTART:20190410T220000Z
DTEND:20190410T230000Z
X-MICROSOFT-CDO-ALLDAYEVENT:FALSE
SUMMARY:Alzheimer's Association: Effective Communication Strategies
DESCRIPTION:A free educational program by the Alzheimer's Association about how communication takes place when someone has dementia. Learn to decode verbal and behavioral messages delivered by someone with dementia and identify strategies to help you connect and communicate at every stage of the disease. To RSVP\, call the library at 845.452.3141. For more information\, call The Alzheimer's Association at 800.272.3900.
X-ALT-DESC;FMTTYPE=text/html:A free educational program by the Alzheimer&#39\;s Association about how communication takes place when someone has dementia. Learn to decode verbal and behavioral messages delivered by someone with dementia and identify strategies to help you connect and communicate at every stage of the disease. To RSVP\, call the library at 845.452.3141. For more information\, call The Alzheimer&#39\;s Association at 800.272.3900.
LOCATION:Lagrange Library 488 Freedom Plains Road\, Suite 109 Poughkeepsie\, NY 12603
UID:e.2770.10480207
SEQUENCE:3
DTSTAMP:20260423T055351Z
URL:http://dutchesscountyregional.smartcms.site/events/details/alzheimer-s-association-effective-communication-strategies-10480207
END:VEVENT

END:VCALENDAR
