BEGIN:VCALENDAR
VERSION:2.0
PRODID:-//ChamberMaster//Event Calendar 2.0//EN
METHOD:PUBLISH
X-PUBLISHED-TTL:P3D
REFRESH-INTERVAL:P3D
CALSCALE:GREGORIAN
BEGIN:VEVENT
DTSTART:20190123T160000Z
DTEND:20190123T170000Z
X-MICROSOFT-CDO-ALLDAYEVENT:FALSE
SUMMARY:Alzheimer's Association: Healthy Living for Your Brain and Body: Tips From the Latest Research
DESCRIPTION:A free educational program by the Alzheimer's Association Hudson Valley Chapter with information on diet\, nutrition\, exercise\, cognitive activity and social engagement. Get hands-on tools to develop a plan for healthy aging. Call The Hurley Library at 845.338.2092 to RSVP. For more information\, contact the Alzheimer's Association at 800.272.3900.
X-ALT-DESC;FMTTYPE=text/html:A free educational program by the Alzheimer&#39\;s Association Hudson Valley Chapter with information on diet\, nutrition\, exercise\, cognitive activity and social engagement. Get hands-on tools to develop a plan for healthy aging. Call The Hurley Library at 845.338.2092 to RSVP. For more information\, contact the Alzheimer&#39\;s Association at 800.272.3900.
LOCATION:The Hurley Library 48 Main Street Hurley\, NY 12443
UID:e.2770.10479950
SEQUENCE:3
DTSTAMP:20260425T123946Z
URL:http://dutchesscountyregional.smartcms.site/events/details/alzheimer-s-association-healthy-living-for-your-brain-and-body-tips-from-the-latest-research-10479950
END:VEVENT

END:VCALENDAR
