BEGIN:VCALENDAR
VERSION:2.0
PRODID:-//ChamberMaster//Event Calendar 2.0//EN
METHOD:PUBLISH
X-PUBLISHED-TTL:P3D
REFRESH-INTERVAL:P3D
CALSCALE:GREGORIAN
BEGIN:VEVENT
DTSTART:20190220T230000Z
DTEND:20190221T000000Z
X-MICROSOFT-CDO-ALLDAYEVENT:FALSE
SUMMARY:Alzheimer's Association "Know the 10 Signs: Early Detection Matters"
DESCRIPTION:A free educational program by the Alzheimer's Association Hudson Valley Chapter on how to recognize the 10 signs of Alzheimer's and why early detection is important. To RSVP\, call the library at 845.452.3141. For more information\, call The Alzheimer's Association at 800.272.3900.
X-ALT-DESC;FMTTYPE=text/html:A free educational program by the Alzheimer&#39\;s Association Hudson Valley Chapter on how to recognize the 10 signs of Alzheimer&rsquo\;s and why early detection is important. To RSVP\, call the library at 845.452.3141. For more information\, call The Alzheimer&#39\;s Association at 800.272.3900.
LOCATION:Lagrange Library 488 Freedom Plains Road\, Suite 109 Poughkeepsie\, NY 12603
UID:e.2770.10480209
SEQUENCE:3
DTSTAMP:20260423T084006Z
URL:http://dutchesscountyregional.smartcms.site/events/details/alzheimer-s-association-know-the-10-signs-early-detection-matters-10480209
END:VEVENT

END:VCALENDAR
