BEGIN:VCALENDAR
VERSION:2.0
PRODID:-//ChamberMaster//Event Calendar 2.0//EN
METHOD:PUBLISH
X-PUBLISHED-TTL:P3D
REFRESH-INTERVAL:P3D
CALSCALE:GREGORIAN
BEGIN:VEVENT
DTSTART:20190326T190000Z
DTEND:20190326T210000Z
X-MICROSOFT-CDO-ALLDAYEVENT:FALSE
SUMMARY:Alzheimer's Community Forum: Saugerties
DESCRIPTION:Learn about Alzheimer's\, dementia and memory loss. Bring a friend who has been affected by the disease. Share your thoughts about how we can help people in your community. Light refreshments will be provided. Registration is requested. Call 800.272.3900 or email Meg Boyce at mboyce@alz.org.
X-ALT-DESC;FMTTYPE=text/html:Learn about Alzheimer&rsquo\;s\, dementia and memory loss. Bring a friend who has been affected by the disease. Share your thoughts about how we can help people in your community. Light refreshments will be provided. Registration is requested. Call 800.272.3900 or email Meg Boyce at mboyce@alz.org.
LOCATION:Atonement Lutheran Church 100 Market St.\, Saugerties\, NY 12477
UID:e.2770.10480517
SEQUENCE:3
DTSTAMP:20260423T072103Z
URL:http://dutchesscountyregional.smartcms.site/events/details/alzheimer-s-community-forum-saugerties-10480517
END:VEVENT

END:VCALENDAR
