BEGIN:VCALENDAR
VERSION:2.0
PRODID:-//ChamberMaster//Event Calendar 2.0//EN
METHOD:PUBLISH
X-PUBLISHED-TTL:P3D
REFRESH-INTERVAL:P3D
CALSCALE:GREGORIAN
BEGIN:VEVENT
DTSTART:20190816T190000Z
DTEND:20190816T200000Z
X-MICROSOFT-CDO-ALLDAYEVENT:FALSE
SUMMARY:American Heart Association - Dutchess-Ulster 10 Year Anniversary of BetterU Progam Kick-Off
DESCRIPTION:Join the Dutchess-Ulster American Heart Association in celebrating the 10 year anniversary of the BetterU Program and the 2019 BetterU participants as they begin this journey to a complete heart makeover. The 12-weeks of personal training/3-month membership with Gold's Gym\, group support\, nutrition advice\, and more will culminate in these ladies attending the Go Red for Women Luncheon on November 8\, 2019 at The Grandview\, to celebrate their success. The 2019 Go Red for Women Luncheon is chaired by Denise Doring VanBuren of Central Hudson Gas & Electric Corporation.
X-ALT-DESC;FMTTYPE=text/html:Join the Dutchess-Ulster American Heart Association in celebrating the 10 year anniversary of the BetterU Program and the 2019 BetterU participants as they begin this journey to a complete heart makeover. The 12-weeks of personal training/3-month membership with Gold&#39\;s Gym\, group support\, nutrition advice\, and more will culminate in these ladies attending the Go Red for Women Luncheon on November 8\, 2019 at The Grandview\, to celebrate their success. The 2019 Go Red for Women Luncheon is chaired by Denise Doring VanBuren of Central Hudson Gas &amp\; Electric Corporation.
LOCATION:Gold's Gym 258 Titusville Rd\, Poughkeepsie\, NY 12603
UID:e.2770.10480990
SEQUENCE:3
DTSTAMP:20260422T223556Z
URL:http://dutchesscountyregional.smartcms.site/events/details/american-heart-association-dutchess-ulster-10-year-anniversary-of-betteru-progam-kick-off-10480990
END:VEVENT

END:VCALENDAR
