BEGIN:VCALENDAR
VERSION:2.0
PRODID:-//ChamberMaster//Event Calendar 2.0//EN
METHOD:PUBLISH
X-PUBLISHED-TTL:P3D
REFRESH-INTERVAL:P3D
CALSCALE:GREGORIAN
BEGIN:VEVENT
DTSTART:20200802T123000Z
DTEND:20200802T203000Z
X-MICROSOFT-CDO-ALLDAYEVENT:FALSE
SUMMARY:American Heart Association Heartsaver First Aid CPR AED Certification Course (Techniques for Adult\, Child & Infant)
DESCRIPTION:This course covers basic first aid\, CPR techniques\, maneuvers for choking victims and how to use an automated external defibrillator. Instruction provided for adult\, child and infant. Textbook and materials included. This course is suitable for day care workers\, construction workers\, school personnel\, coast guard candidates\, camp counselors and many other community professions. Successful course completion results in a certification card valid for two years from the AHA. Fee is $75 includes text. This class is scheduled 8:30 am to 4:30 pm. *If you are in the medical field you will likely require the BLS Provider class to meet the CPR AED requirement for employment or school. Please see that class if you are a medical student\, nursing student\, lifeguard\, EMT\, Medic or hold another health care provider related role. **If you are a NYS Coach you will need the Heartsaver CPR AED Course and the Sports First Aid & Injury Prevention Course (to meet the NYS requirement for Coaches). Please see those courses or call/email if you have questions about if this class is right for you. Class sizes are restricted meaning that prior registration and payment is required. WE WILL NOT ACCOMMODATE ANY WALK-IN STUDENTS. Nuvance Health Employees should email Wendy.Hennessy@NuvanceHealth.org for the latest promotion codes available prior to signing up. Notes: We are offering this class at no cost to High School students and 2020 High School Graduates as we realize some students were unable to complete their CPR in Schools curriculum and we would like to help by offering this class to them at no charge. Use promo code CPRSTUDENT2020 to avoid being charged the fee. Proof of being a high school student will be required either a student ID\, recent report card\, transcript\, graduation letter\, enrollment letter\, etc. will be needed.
X-ALT-DESC;FMTTYPE=text/html:This course covers basic first aid\, CPR techniques\, maneuvers for choking victims and how to use an automated external defibrillator. Instruction provided for adult\, child and infant. Textbook and materials included. This course is suitable for day care workers\, construction workers\, school personnel\, coast guard candidates\, camp counselors and many other community professions. Successful course completion results in a certification card valid for two years from the AHA. Fee is $75 includes text. This class is scheduled 8:30 am to 4:30 pm. *If you are in the medical field you will likely require the BLS Provider class to meet the CPR AED requirement for employment or school. Please see that class if you are a medical student\, nursing student\, lifeguard\, EMT\, Medic or hold another health care provider related role. **If you are a NYS Coach you will need the Heartsaver CPR AED Course and the Sports First Aid &amp\; Injury Prevention Course (to meet the NYS requirement for Coaches). Please see those courses or call/email if you have questions about if this class is right for you. Class sizes are restricted meaning that prior registration and payment is required. WE WILL NOT ACCOMMODATE ANY WALK-IN STUDENTS. Nuvance Health Employees should email Wendy.Hennessy@NuvanceHealth.org for the latest promotion codes available prior to signing up. Notes: We are offering this class at no cost to High School students and 2020 High School Graduates as we realize some students were unable to complete their CPR in Schools curriculum and we would like to help by offering this class to them at no charge. Use promo code CPRSTUDENT2020 to avoid being charged the fee. Proof of being a high school student will be required either a student ID\, recent report card\, transcript\, graduation letter\, enrollment letter\, etc. will be needed.
LOCATION:Vassar Brothers Medical Center 45 Reade Place Conference Room B - 1st Floor Poughkeepsie\, NY 12601
UID:e.2770.10484164
SEQUENCE:3
DTSTAMP:20260422T004642Z
URL:http://dutchesscountyregional.smartcms.site/events/details/american-heart-association-heartsaver-first-aid-cpr-aed-certification-course-techniques-for-adult-child-infant-10484164
END:VEVENT

END:VCALENDAR
