BEGIN:VCALENDAR
VERSION:2.0
PRODID:-//ChamberMaster//Event Calendar 2.0//EN
METHOD:PUBLISH
X-PUBLISHED-TTL:P3D
REFRESH-INTERVAL:P3D
CALSCALE:GREGORIAN
BEGIN:VEVENT
DTSTART:20191012T223000Z
DTEND:20191013T023000Z
X-MICROSOFT-CDO-ALLDAYEVENT:FALSE
SUMMARY:Anderson Center for Autism Gala\, A Record Year
DESCRIPTION:It's Anderson Center for Autism's 95th year\, and the annual gala will honor Eric D. Gorman with the V.V. Anderson Community Service Award. Cocktails\, dinner\, dancing to Motown music\, performances by Anderson children's and adult services programs. Black tie attire encouraged.
X-ALT-DESC;FMTTYPE=text/html:It&rsquo\;s Anderson Center for Autism&rsquo\;s 95th year\, and the annual gala will honor Eric D. Gorman with the V.V. Anderson Community Service Award. Cocktails\, dinner\, dancing to Motown music\, performances by Anderson children&rsquo\;s and adult services programs. Black tie attire encouraged.
LOCATION:The Grandview\, 176 Rinaldi Blvd\, Poughkeepsie\, NY 12601
UID:e.2770.10481039
SEQUENCE:3
DTSTAMP:20260422T172747Z
URL:http://dutchesscountyregional.smartcms.site/events/details/anderson-center-for-autism-gala-a-record-year-10481039
END:VEVENT

END:VCALENDAR
