BEGIN:VCALENDAR
VERSION:2.0
PRODID:-//ChamberMaster//Event Calendar 2.0//EN
METHOD:PUBLISH
X-PUBLISHED-TTL:P3D
REFRESH-INTERVAL:P3D
CALSCALE:GREGORIAN
BEGIN:VEVENT
DTSTART:20181202T133000Z
DTEND:20181202T210000Z
X-MICROSOFT-CDO-ALLDAYEVENT:FALSE
SUMMARY:Anderson Center's Holiday Craft Fair
DESCRIPTION:Anderson Center for Autism invites you to our first annual Holiday Craft Fair. Our Holiday Craft Fair will showcase handmade work and goods of independent artists and designers. Vendors will include merchandise of a DIY-culture\, local and commercial businesses\, and education and support booths specialized in Autism Spectrum Disorder.
X-ALT-DESC;FMTTYPE=text/html:Anderson Center for Autism invites you to our first annual Holiday Craft Fair. Our Holiday Craft Fair will showcase handmade work and goods of independent artists and designers. Vendors will include merchandise of a DIY-culture\, local and commercial businesses\, and education and support booths specialized in Autism Spectrum Disorder.
LOCATION:Anderson Center for Autism 4885 Route 9 Staatsburg\, NY 12580 (5 Miles North of Poughkeepsie)
UID:e.2770.10479349
SEQUENCE:3
DTSTAMP:20260425T142611Z
URL:http://dutchesscountyregional.smartcms.site/events/details/anderson-center-s-holiday-craft-fair-10479349
END:VEVENT

END:VCALENDAR
