BEGIN:VCALENDAR
VERSION:2.0
PRODID:-//ChamberMaster//Event Calendar 2.0//EN
METHOD:PUBLISH
X-PUBLISHED-TTL:P3D
REFRESH-INTERVAL:P3D
CALSCALE:GREGORIAN
BEGIN:VEVENT
DTSTART:20190613T120000Z
DTEND:20190613T210000Z
X-MICROSOFT-CDO-ALLDAYEVENT:FALSE
SUMMARY:Anderson Golf Classic
DESCRIPTION:Join us for the 2019 Anderson Golf Classic! 8:00AM Registration & Full Breakfast 9:00AM Shotgun Start/ Scramble Format\, Lunch Served on the Course 2:00PM Cocktails\, Dinner\, Awards and Raffles Proceeds benefit the children and adults of Anderson Center for Autism For more information contact Kelly Dooley at 845-889-9208 or KDooley@AndersonCares.org Visit Us\, Register\, and Pay Online: www.AndersonCenterForAutism.org/AndersonClassic
X-ALT-DESC;FMTTYPE=text/html:Join us for the 2019 Anderson Golf Classic! 8:00AM Registration &amp\; Full Breakfast 9:00AM Shotgun Start/ Scramble Format\, Lunch Served on the Course 2:00PM Cocktails\, Dinner\, Awards and Raffles Proceeds benefit the children and adults of Anderson Center for Autism For more information contact Kelly Dooley at 845-889-9208 or KDooley@AndersonCares.org Visit Us\, Register\, and Pay Online: www.AndersonCenterForAutism.org/AndersonClassic
LOCATION:The Links at Union Vale 153 N Parliman Road Lagrangeville\, NY 12540
UID:e.2770.10480561
SEQUENCE:3
DTSTAMP:20260423T021207Z
URL:http://dutchesscountyregional.smartcms.site/events/details/anderson-golf-classic-06-13-2019-10480561
END:VEVENT

END:VCALENDAR
