BEGIN:VCALENDAR
VERSION:2.0
PRODID:-//ChamberMaster//Event Calendar 2.0//EN
METHOD:PUBLISH
X-PUBLISHED-TTL:P3D
REFRESH-INTERVAL:P3D
CALSCALE:GREGORIAN
BEGIN:VEVENT
DTSTART:20210522T150000Z
DTEND:20210523T190000Z
X-MICROSOFT-CDO-ALLDAYEVENT:FALSE
SUMMARY:Angry Orchard 5 Year Anniversary Specialty Cider Tasting
DESCRIPTION:Join us as we celebrate our 5 Year Anniversary of opening the doors to our Cider House to our friends near and far! In honor of this milestone moment\, we will be hosting a specialty cider tasting and pairing in our Stone Barn Barrel Room. This specialty tasting includes a tasting of eight Walden exclusive ciders\, some of which are being pulled from our library of previous vintages. We'll discuss different methods of cider making and how we've evolved since we broke ground here in Walden. All groups will receive a selection of cheese and bruschetta to pair with their tastings. This tasting is $65 per person and is 21+. Ticket link: https://checkout.xola.com/index.html?fbclid=IwAR37_CYhisebyzGJu7jd8UKVrxtENu4A__bkEnDaO-8n3oSctADK34Dibh4#seller/5da47f05506f6020d7775869/experiences/60805e1cf3b1943bee269b07?openExternal=true Reservations for this tasting does not include a table reservation at the Cider House. To book a table reservation\, head to www.angryorchard.com/tours
X-ALT-DESC;FMTTYPE=text/html:Join us as we celebrate our 5 Year Anniversary of opening the doors to our Cider House to our friends near and far! In honor of this milestone moment\, we will be hosting a specialty cider tasting and pairing in our Stone Barn Barrel Room. This specialty tasting includes a tasting of eight Walden exclusive ciders\, some of which are being pulled from our library of previous vintages. We&#39\;ll discuss different methods of cider making and how we&#39\;ve evolved since we broke ground here in Walden. All groups will receive a selection of cheese and bruschetta to pair with their tastings. This tasting is $65 per person and is 21+. Ticket link: https://checkout.xola.com/index.html?fbclid=IwAR37_CYhisebyzGJu7jd8UKVrxtENu4A__bkEnDaO-8n3oSctADK34Dibh4#seller/5da47f05506f6020d7775869/experiences/60805e1cf3b1943bee269b07?openExternal=true Reservations for this tasting does not include a table reservation at the Cider House. To book a table reservation\, head to www.angryorchard.com/tours
LOCATION:Angry Orchard 2241 Albany Post Road Walden\, NY 12586
UID:e.2770.10485128
SEQUENCE:3
DTSTAMP:20260421T101307Z
URL:http://dutchesscountyregional.smartcms.site/events/details/angry-orchard-5-year-anniversary-specialty-cider-tasting-10485128
END:VEVENT

END:VCALENDAR
