BEGIN:VCALENDAR
VERSION:2.0
PRODID:-//ChamberMaster//Event Calendar 2.0//EN
METHOD:PUBLISH
X-PUBLISHED-TTL:P3D
REFRESH-INTERVAL:P3D
CALSCALE:GREGORIAN
BEGIN:VEVENT
DTSTART:20210508T140000Z
DTEND:20210508T190000Z
X-MICROSOFT-CDO-ALLDAYEVENT:FALSE
SUMMARY:Angry Orchard Spring Cider Pairing Brunch
DESCRIPTION:Join us in celebrating Spring in the Hudson Valley during our Cider Pairing Brunch! This brunch will feature 3 courses paired with one of our Cider House exclusive ciders with each dish in addition to a welcome drink in our brand-new upstairs tasting room. Each dish is carefully curated by the talented Anthony Mario utilizing locally sourced ingredients. There are two different brunch sessions at 10am-12pm and 1pm-3pm. Each table can have 2 guests minimum and 4 maximum. Brunch is 21+ and $50 per person. A mask must be worn at all times except while seated at your table. Brunch will be held rain or shine. Please email tours@angryorchard.com with any food allergies. No substitutions. Ticket: https://checkout.xola.com/index.html?fbclid=IwAR3EHVKdGhr5dCeVANNA37HZjl4HxujQapnzsokDnT3dwzyaaSeFXbknIW0#seller/5da47f05506f6020d7775869/experiences/60770b628ca3c31b901dba2a?openExternal=true Menu: Appetizer - Spring time Hash-locally sourced ground sausage\, "pine island" potatoes\, saut ed vegetables and poach egg \, locally sourced micro herbs. Entr e - Warm Quiche Lorraine-locally smoked bacon\, Calkins creamy cheese fresh herbs\, all set in a flaky crust served with local greens\, radish\, Locally sourced goat cheese\, honey and red wine vinaigrette. Dessert - Spring time trifle in a jar- Madagascar vanilla pastry cream\, chefs chocolate pound cake\, fresh berries and whipped cream. Tickets to this event does not include a table reservation for the Cider House and must be booked separately. To book a table reservation for after brunch\, head to angryorchard.com/tours
X-ALT-DESC;FMTTYPE=text/html:Join us in celebrating Spring in the Hudson Valley during our Cider Pairing Brunch! This brunch will feature 3 courses paired with one of our Cider House exclusive ciders with each dish in addition to a welcome drink in our brand-new upstairs tasting room. Each dish is carefully curated by the talented Anthony Mario utilizing locally sourced ingredients. There are two different brunch sessions at 10am-12pm and 1pm-3pm. Each table can have 2 guests minimum and 4 maximum. Brunch is 21+ and $50 per person. A mask must be worn at all times except while seated at your table. Brunch will be held rain or shine. Please email tours@angryorchard.com with any food allergies. No substitutions. Ticket: https://checkout.xola.com/index.html?fbclid=IwAR3EHVKdGhr5dCeVANNA37HZjl4HxujQapnzsokDnT3dwzyaaSeFXbknIW0#seller/5da47f05506f6020d7775869/experiences/60770b628ca3c31b901dba2a?openExternal=true Menu: Appetizer - Spring time Hash-locally sourced ground sausage\, &ldquo\;pine island&rdquo\; potatoes\, saut&eacute\;ed vegetables and poach egg \, locally sourced micro herbs. Entr&eacute\;e - Warm Quiche Lorraine-locally smoked bacon\, Calkins creamy cheese fresh herbs\, all set in a flaky crust served with local greens\, radish\, Locally sourced goat cheese\, honey and red wine vinaigrette. Dessert - Spring time trifle in a jar- Madagascar vanilla pastry cream\, chefs chocolate pound cake\, fresh berries and whipped cream. Tickets to this event does not include a table reservation for the Cider House and must be booked separately. To book a table reservation for after brunch\, head to angryorchard.com/tours
LOCATION:Angry Orchard 2241 Albany Post Road Walden\, NY 12586
UID:e.2770.10485103
SEQUENCE:3
DTSTAMP:20260421T112252Z
URL:http://dutchesscountyregional.smartcms.site/events/details/angry-orchard-spring-cider-pairing-brunch-05-08-2021-10485103
END:VEVENT

END:VCALENDAR
