BEGIN:VCALENDAR
VERSION:2.0
PRODID:-//ChamberMaster//Event Calendar 2.0//EN
METHOD:PUBLISH
X-PUBLISHED-TTL:P3D
REFRESH-INTERVAL:P3D
CALSCALE:GREGORIAN
BEGIN:VEVENT
DTSTART:20210429T170000Z
DTEND:20210509T190000Z
X-MICROSOFT-CDO-ALLDAYEVENT:FALSE
SUMMARY:Angry Orchard Walk Tour and Cider Tasting
DESCRIPTION:Celebrate blossom season with a guided tour through our 60-acre orchard! Learn about the history of our property\, different apple growing methods and more. End your tour of the orchard with a guided tasting of three ciders in our Cider Garden\, accompanied with a cheeseboard for your group. This event is 21 and up and $30 per person. This event is weather permitting and may be cancelled due to inclement weather. We ask that a mask be worn at all times\; and all guests adhere to the social distancing guidelines. Link to Orchard Walk Tour and Cider Tasting can be found here: https://checkout.xola.com/index.html?fbclid=IwAR3t_B0cND_8TNxahN9wO8ViWVUsyGv0CgpXd8tLcGJ4fYMYPm7WL6TNKBE#seller/5da47f05506f6020d7775869/experiences/6064789147742924c7490289?openExternal=true Tickets to this event do not include a table reservation for the Cider House and must be book separately. To book a table reservation\, head to www.angryorchard.com/tours.
X-ALT-DESC;FMTTYPE=text/html:Celebrate blossom season with a guided tour through our 60-acre orchard! Learn about the history of our property\, different apple growing methods and more. End your tour of the orchard with a guided tasting of three ciders in our Cider Garden\, accompanied with a cheeseboard for your group. This event is 21 and up and $30 per person. This event is weather permitting and may be cancelled due to inclement weather. We ask that a mask be worn at all times\; and all guests adhere to the social distancing guidelines. Link to Orchard Walk Tour and Cider Tasting can be found here: https://checkout.xola.com/index.html?fbclid=IwAR3t_B0cND_8TNxahN9wO8ViWVUsyGv0CgpXd8tLcGJ4fYMYPm7WL6TNKBE#seller/5da47f05506f6020d7775869/experiences/6064789147742924c7490289?openExternal=true Tickets to this event do not include a table reservation for the Cider House and must be book separately. To book a table reservation\, head to www.angryorchard.com/tours.
LOCATION:Angry Orchard 2241 Albany Post Road Walden\, NY 12586
UID:e.2770.10485104
SEQUENCE:3
DTSTAMP:20260421T101307Z
URL:http://dutchesscountyregional.smartcms.site/events/details/angry-orchard-walk-tour-and-cider-tasting-10485104
END:VEVENT

END:VCALENDAR
