BEGIN:VCALENDAR
VERSION:2.0
PRODID:-//ChamberMaster//Event Calendar 2.0//EN
METHOD:PUBLISH
X-PUBLISHED-TTL:P3D
REFRESH-INTERVAL:P3D
CALSCALE:GREGORIAN
BEGIN:VEVENT
DTSTART:20180506T140000Z
DTEND:20180506T190000Z
X-MICROSOFT-CDO-ALLDAYEVENT:FALSE
SUMMARY:Apple Blossom Day - Fishkill Farms
DESCRIPTION:See the orchard at it's most beautiful   covered in lovely spring blossoms! Enjoy wagon rides throughout the orchard where we will be making stops along the way to allow visitors to take photos amongst the trees and take in the stunning site of 80+ acres of fruit trees blossoming. The grill will be up and running. We have new and improved grass-fed burgers on a fresh brioche bun\, hot dogs and delicious vegetarian options featuring Fishkill Farms' organic veggies. The Treasury Cider Garden will be opening for the first time this season! Enjoy the fresh spring air and beautiful farm views while sipping on a cold glass of hard cider made with our very own apples. A complimentary tasting will be provided to each customer (Ages 21+). Admission: Free (wagon rides included)
X-ALT-DESC;FMTTYPE=text/html:See the orchard at it&#39\;s most beautiful &ndash\; covered in lovely spring blossoms! Enjoy wagon rides throughout the orchard where we will be making stops along the way to allow visitors to take photos amongst the trees and take in the stunning site of 80+ acres of fruit trees blossoming. The grill will be up and running. We have new and improved grass-fed burgers on a fresh brioche bun\, hot dogs and delicious vegetarian options featuring Fishkill Farms&#39\; organic veggies. The Treasury Cider Garden will be opening for the first time this season! Enjoy the fresh spring air and beautiful farm views while sipping on a cold glass of hard cider made with our very own apples. A complimentary tasting will be provided to each customer (Ages 21+). Admission: Free (wagon rides included)
LOCATION:Fishkill Farms
UID:e.2770.10477718
SEQUENCE:3
DTSTAMP:20260426T034345Z
URL:http://dutchesscountyregional.smartcms.site/events/details/apple-blossom-day-fishkill-farms-10477718
END:VEVENT

END:VCALENDAR
