BEGIN:VCALENDAR
VERSION:2.0
PRODID:-//ChamberMaster//Event Calendar 2.0//EN
METHOD:PUBLISH
X-PUBLISHED-TTL:P3D
REFRESH-INTERVAL:P3D
CALSCALE:GREGORIAN
BEGIN:VEVENT
DTSTART:20190417T113000Z
DTEND:20190417T130000Z
X-MICROSOFT-CDO-ALLDAYEVENT:FALSE
SUMMARY:April Contact Breakfast
DESCRIPTION:***Please note if you try to register after 5:00 PM on Tuesday\, April 16th you will NOT be on our registration list. Please report to the UNPAID Table when you arrive.\n\n\n\nMonthly Contact Breakfast featuring SUNY New Paltz President\, Dr. Donald Christian\n\n\n\nAs you all know\, there are many people in need of our assistance. The Chamber's Ambassador Committee has partnered with our Workforce Development Center to collect canned and dry goods at our Contact Breakfast. Your donations are greatly appreciated.\n\n\n\nSponsored by: Greystone Programs\, Inc.
X-ALT-DESC;FMTTYPE=text/html:<p><span style="text-align: left\; color: rgb(255\, 0\, 0)\; text-transform: none\; text-indent: 0px\; letter-spacing: normal\; font-size: 18px\; font-style: normal\; font-variant: normal\; font-weight: 400\; text-decoration: none\; word-spacing: 0px\; white-space: normal\; orphans: 2\; background-color: transparent\; -webkit-text-stroke-width: 0px\;"><span style="font-family: times new roman\;"><strong>***<span style="background: rgb(255\, 255\, 255)\;">Please note if&nbsp\;you try to register after 5:00 PM on Tuesday\,&nbsp\;April 16th&nbsp\;you will NOT be on our registration list. Please report to the UNPAID Table when you arrive.</span></strong></span></span><br />\n<br />\n<strong><span style="font-size: 13pt\;"><span style="font-family: times new roman\,serif\;"><span style="color: rgb(51\, 51\, 51)\;">Monthly Contact Breakfast featuring SUNY New Paltz President\, Dr. Donald Christian</span></span></span></strong><br />\n<br />\n<strong><span style="background: white\; font-weight: normal\;"><span style="font-size: 13pt\;"><span style="color: rgb(51\, 51\, 51)\;"><span style="font-family: calibri\;">As you all know\, there are many people in need of our assistance. The Chamber&#39\;s Ambassador Committee has partnered with our Workforce Development Center to collect canned and dry goods at our Contact Breakfast. Your donations are greatly appreciated.</span></span></span></span></strong><br />\n<br />\n<strong><span style="background: white\; font-weight: normal\;"><span style="font-size: 13pt\;"><span style="color: rgb(51\, 51\, 51)\;"><span style="font-family: calibri\;">Sponsored by: </span><a href="https://greystoneprograms.org/" target="_blank"><strong><span style="font-family: calibri\;"><span style="color: rgb(0\, 0\, 255)\;">Greystone Programs\, Inc.</span></span></strong></a></span></span></span></strong><br />\n&nbsp\;</p>\n
LOCATION:The Poughkeepsie Grand Hotel & Conference Center 40 Civic Center Plaza Poughkeepsie\, NY 12601
UID:e.2770.10479789
SEQUENCE:3
DTSTAMP:20260423T055142Z
URL:http://dutchesscountyregional.smartcms.site/events/details/april-contact-breakfast-10479789
END:VEVENT

END:VCALENDAR
