BEGIN:VCALENDAR
VERSION:2.0
PRODID:-//ChamberMaster//Event Calendar 2.0//EN
METHOD:PUBLISH
X-PUBLISHED-TTL:P3D
REFRESH-INTERVAL:P3D
CALSCALE:GREGORIAN
BEGIN:VEVENT
DTSTART:20190328T213000Z
DTEND:20190329T013000Z
X-MICROSOFT-CDO-ALLDAYEVENT:FALSE
SUMMARY:Arc of Dutchess' Evening of Discovery: Voyages
DESCRIPTION:The Arc of Dutchess announces its signature event\, An Evening of Discovery: Voyages. The evening will lead guests on an interactive journey through the agency told by film\, art\, theater exhibits and culminating in a never-before-seen film production. In addition to meeting staff and learning about their talents and stories\, attendees will be directed to visit exhibits by conductors and receive passports guiding them throughout the experience to win their very own 'voyage'. Guests will also have the opportunity to applaud Joan Sherman\, as she accepts the Catherine Seeberger Citizenship Award for her extensive contributions to the local community. Tickets are available for purchase by visiting arcdutchess.org/tickets or by contacting Evelyn Flavin at (845) 635-8084 x21100 or eflavin@arcdutchess.org. Event tickets are $60 for members and $80 for general admission.
X-ALT-DESC;FMTTYPE=text/html:The Arc of Dutchess announces its signature event\, An Evening of Discovery: Voyages. The evening will lead guests on an interactive journey through the agency told by film\, art\, theater exhibits and culminating in a never-before-seen film production. In addition to meeting staff and learning about their talents and stories\, attendees will be directed to visit exhibits by conductors and receive passports guiding them throughout the experience to win their very own &lsquo\;voyage&rsquo\;. Guests will also have the opportunity to applaud Joan Sherman\, as she accepts the Catherine Seeberger Citizenship Award for her extensive contributions to the local community. Tickets are available for purchase by visiting arcdutchess.org/tickets or by contacting Evelyn Flavin at (845) 635-8084 x21100 or eflavin@arcdutchess.org. Event tickets are $60 for members and $80 for general admission.
LOCATION:
UID:e.2770.10480542
SEQUENCE:3
DTSTAMP:20260423T072236Z
URL:http://dutchesscountyregional.smartcms.site/events/details/arc-of-dutchess-evening-of-discovery-voyages-10480542
END:VEVENT

END:VCALENDAR
