BEGIN:VCALENDAR
VERSION:2.0
PRODID:-//ChamberMaster//Event Calendar 2.0//EN
METHOD:PUBLISH
X-PUBLISHED-TTL:P3D
REFRESH-INTERVAL:P3D
CALSCALE:GREGORIAN
BEGIN:VEVENT
DTSTART:20191024T213000Z
DTEND:20191025T000000Z
X-MICROSOFT-CDO-ALLDAYEVENT:FALSE
SUMMARY:Art After Dark
DESCRIPTION:Now in its second year\, Art After Dark will convene 150-200 business executives\, artists\, and social in?uencers to enjoy site specific immersive arts experiences\, conceived and created by The Art Effect staff and youth. Proceeds from this evening will provide signi?cant support for The Art Effect's arts education programming. Tickets are $125 per person. To purchase\, visit feelthearteffect.org/artafterdark
X-ALT-DESC;FMTTYPE=text/html:Now in its second year\, Art After Dark will convene 150-200 business executives\, artists\, and social in?uencers to enjoy site specific immersive arts experiences\, conceived and created by The Art Effect staff and youth. Proceeds from this evening will provide signi?cant support for The Art Effect&rsquo\;s arts education programming. Tickets are $125 per person. To purchase\, visit feelthearteffect.org/artafterdark
LOCATION:Locust Grove Estate 2683 South Road Poughkeepsie\, NY 12601
UID:e.2770.10480555
SEQUENCE:3
DTSTAMP:20260422T191022Z
URL:http://dutchesscountyregional.smartcms.site/events/details/art-after-dark-10-24-2019-10480555
END:VEVENT

END:VCALENDAR
