BEGIN:VCALENDAR
VERSION:2.0
PRODID:-//ChamberMaster//Event Calendar 2.0//EN
METHOD:PUBLISH
X-PUBLISHED-TTL:P3D
REFRESH-INTERVAL:P3D
CALSCALE:GREGORIAN
BEGIN:VEVENT
DTSTART:20200417T140000Z
DTEND:20200419T210000Z
X-MICROSOFT-CDO-ALLDAYEVENT:FALSE
SUMMARY:Art of the Needle
DESCRIPTION:23rd Art of the Needle Biennial Show This three-day exhibit of needlework by the members of the Skyllkill Chapter of the Embroiderers' Guild of America. Nearly 300 pieces created by our members in forms of embroidery and much more\, including tatting\, beadwork\, temari\, quilting\, knitting and textile mixed media. There will be ongoing demonstrations from our six special interest groups - Beading\, Brazilian Embroidery\, Crazy Quilting\, Surface Stitchery\, Tatting and Temari.
X-ALT-DESC;FMTTYPE=text/html:23rd Art of the Needle Biennial Show This three-day exhibit of needlework by the members of the Skyllkill Chapter of the Embroiderers&#39\; Guild of America. Nearly 300 pieces created by our members in forms of embroidery and much more\, including tatting\, beadwork\, temari\, quilting\, knitting and textile mixed media. There will be ongoing demonstrations from our six special interest groups - Beading\, Brazilian Embroidery\, Crazy Quilting\, Surface Stitchery\, Tatting and Temari.
LOCATION:Locust Grove Estate. 2683 South Road\, Poughkeepsie\, NY 12603
UID:e.2770.10482686
SEQUENCE:3
DTSTAMP:20260422T072313Z
URL:http://dutchesscountyregional.smartcms.site/events/details/art-of-the-needle-10482686
END:VEVENT

END:VCALENDAR
