BEGIN:VCALENDAR
VERSION:2.0
PRODID:-//ChamberMaster//Event Calendar 2.0//EN
METHOD:PUBLISH
X-PUBLISHED-TTL:P3D
REFRESH-INTERVAL:P3D
CALSCALE:GREGORIAN
BEGIN:VEVENT
DTSTART:20190821T113000Z
DTEND:20190821T130000Z
X-MICROSOFT-CDO-ALLDAYEVENT:FALSE
SUMMARY:August Contact Breakfast
DESCRIPTION:***Please note if you try to register after 5:00 PM on Tuesday\, August 20th you will NOT be on our registration list. Please report to the UNPAID Table when you arrive.\n\n\n\nThe August Contact Breakfast will feature a forum between candidates for Beacon Mayor   incumbent Randy Casale and challenger Lee Kyriacou.\n\n\n\nQuestions to be considered for the candidates should be emailed to richk@dcrcoc.org. Questions will be selected in advance with the help of the Chamber's Legislative Action Committee.\n\n\n\nAs you all know\, there are many people in need of our assistance. The Chamber's Ambassador committee has partnered with our Workforce Development Center to collect canned and dry goods at our Contact Breakfast. Your donations are greatly appreciated.\n\n\n\nSponsored by: TEG Federal Credit Union\n\nNonprofits: Greystone Programs and New Horizons
X-ALT-DESC;FMTTYPE=text/html:<p><span lang="EN" style="color: red\; font-family: &quot\;Calibri&quot\;\,sans-serif\; font-size: 13.5pt\; mso-bidi-font-family: &quot\;Times New Roman&quot\;\; mso-ansi-language: EN\;"><strong>***Please note if&nbsp\;you try to register after 5:00 PM on Tuesday\,&nbsp\;August&nbsp\;20th&nbsp\;you will NOT be on our registration list. Please report to the UNPAID Table when you arrive.</strong></span><br />\n<br />\n<span style="font-size: 16px\;"><span style="font-family: times new roman\;"><span style="color: rgb(0\, 0\, 0)\; caret-color: rgb(0\, 0\, 0)\; text-size-adjust: auto\;">The August Contact Breakfast will feature a forum between candidates for Beacon Mayor &ndash\; incumbent Randy Casale and challenger Lee Kyriacou.</span><br />\n<br />\n<font color="#000000">Questions to be considered for the&nbsp\;candidates should be emailed to </font><strong><span style="color: rgb(0\, 0\, 255)\;"><a href="mailto:richk@dcrcoc.org">richk@dcrcoc.org</a>.&nbsp\;</span></strong><font color="#000000">Questions will be selected in advance with the help of the Chamber&rsquo\;s Legislative Action Committee.</font></span><br />\n<br />\n<em><strong style="color: rgb(51\, 51\, 51)\; font-family: sans-serif\, Arial\, Verdana\, &quot\;Trebuchet MS&quot\;\; font-size: 13px\; background-color: rgb(255\, 255\, 255)\;">As you all know\, there are many people in need of our assistance. The Chamber&#39\;s Ambassador committee has partnered with our Workforce Development Center to collect canned and dry goods at our Contact Breakfast. Your donations are greatly appreciated.</strong></em><br />\n<br />\n<span style="font-family: times new roman\;"><strong style="color: rgb(51\, 51\, 51)\; font-family: sans-serif\, Arial\, Verdana\, &quot\;Trebuchet MS&quot\;\; font-size: 13px\; background-color: rgb(255\, 255\, 255)\;">Sponsored by: <a href="https://www.tegfcu.com/" target="_blank"><span style="color: rgb(0\, 0\, 255)\;">TEG Federal Credit Union</span></a><br />\nNonprofits:&nbsp\;</strong></span></span><strong><u>Greystone Programs</u> and <u>New Horizons</u></strong></p>\n
LOCATION:The Poughkeepsie Grand Hotel & Conference Center
UID:e.2770.10479886
SEQUENCE:3
DTSTAMP:20260422T223425Z
URL:http://dutchesscountyregional.smartcms.site/events/details/august-contact-breakfast-10479886
END:VEVENT

END:VCALENDAR
