BEGIN:VCALENDAR
VERSION:2.0
PRODID:-//ChamberMaster//Event Calendar 2.0//EN
METHOD:PUBLISH
X-PUBLISHED-TTL:P3D
REFRESH-INTERVAL:P3D
CALSCALE:GREGORIAN
BEGIN:VEVENT
DTSTART:20190105T160000Z
DTEND:20190105T170000Z
X-MICROSOFT-CDO-ALLDAYEVENT:FALSE
SUMMARY:Aura-Soma Colour Therapy Info Session
DESCRIPTION:Kick start your New Year with the colors of the rainbow.\n\nReveal your highest potential with the healing energies of crystals\, gems\, plants & colors.\n\nThis free info session will describe the Aura-Soma system and answer all questions.
X-ALT-DESC;FMTTYPE=text/html:<span style="font-size:14px"><span style="font-family:verdana">Kick start your New Year with the colors of the rainbow.<br />\nReveal your highest potential with the healing energies of crystals\, gems\, plants &amp\; colors.<br />\nThis free info session will describe the Aura-Soma system and answer all questions.&nbsp\;</span></span><br />\n<br />\n&nbsp\;
LOCATION:The Source NY 143 Boardman Rd\, Bldg 3 Poughkeepsie\, NY 12603
UID:e.2770.10479927
SEQUENCE:3
DTSTAMP:20260425T123752Z
URL:http://dutchesscountyregional.smartcms.site/events/details/aura-soma-colour-therapy-info-session-10479927
END:VEVENT

END:VCALENDAR
