BEGIN:VCALENDAR
VERSION:2.0
PRODID:-//ChamberMaster//Event Calendar 2.0//EN
METHOD:PUBLISH
X-PUBLISHED-TTL:P3D
REFRESH-INTERVAL:P3D
CALSCALE:GREGORIAN
BEGIN:VEVENT
DTSTART:20190730T230000Z
DTEND:20190731T030000Z
X-MICROSOFT-CDO-ALLDAYEVENT:FALSE
SUMMARY:Autism Awareness Night with the HV Renegades
DESCRIPTION:Join Greystone Programs as we go blue with the Hudson Valley Renegades\, when they take on the Auburn Doubledays\, to help raise awareness for Autism. Greystone Programs with Community Partners\, Rose & Kiernan and iPark 84\, are pleased to present Mickey Rivers\, former center fielder and two time World Champion (1977 & 1978) of the New York Yankees! Signed autographs available for $10 (suggested donation). Proceeds benefit Greystone Programs. HVR Game Highlight: $2 Tuesdays Twosdays are $2 Tuesdays where different food and beverage stands offer specials. The First and Third Base Stands offer $2 Fountain Beverages\, $2 Popcorn\, and a $2 Hot dog. The Totally Tacos stand is offering a $2 Taco Tuesday Special. The Stadium Bistro is offering $2 Snow Cones. Tickets: http://hv1.glitnirticketing.com/hvticket/web/captcha.php?status_id=2&event_id=59&tfl=renegades-tickets-na-single_game_tickets-x0-unknown-unknown&fbclid=IwAR1OyAL3qdoQeGmhEFhrMe8iXXV_MtPvgo18NJi7GaHdXpJjkNalKANiC0I&refresh=1562008861
X-ALT-DESC;FMTTYPE=text/html:Join Greystone Programs as we go blue with the Hudson Valley Renegades\, when they take on the Auburn Doubledays\, to help raise awareness for Autism. Greystone Programs with Community Partners\, Rose &amp\; Kiernan and iPark 84\, are pleased to present Mickey Rivers\, former center fielder and two time World Champion (1977 &amp\; 1978) of the New York Yankees! Signed autographs available for $10 (suggested donation). Proceeds benefit Greystone Programs. HVR Game Highlight: $2 Tuesdays Twosdays are $2 Tuesdays where different food and beverage stands offer specials. The First and Third Base Stands offer $2 Fountain Beverages\, $2 Popcorn\, and a $2 Hot dog. The Totally Tacos stand is offering a $2 Taco Tuesday Special. The Stadium Bistro is offering $2 Snow Cones. Tickets: http://hv1.glitnirticketing.com/hvticket/web/captcha.php?status_id=2&amp\;event_id=59&amp\;tfl=renegades-tickets-na-single_game_tickets-x0-unknown-unknown&amp\;fbclid=IwAR1OyAL3qdoQeGmhEFhrMe8iXXV_MtPvgo18NJi7GaHdXpJjkNalKANiC0I&amp\;refresh=1562008861
LOCATION:
UID:e.2770.10480992
SEQUENCE:3
DTSTAMP:20260423T002050Z
URL:http://dutchesscountyregional.smartcms.site/events/details/autism-awareness-night-with-the-hv-renegades-10480992
END:VEVENT

END:VCALENDAR
