BEGIN:VCALENDAR
VERSION:2.0
PRODID:-//ChamberMaster//Event Calendar 2.0//EN
METHOD:PUBLISH
X-PUBLISHED-TTL:P3D
REFRESH-INTERVAL:P3D
CALSCALE:GREGORIAN
BEGIN:VEVENT
DTSTART:20200729T180000Z
DTEND:20200729T190000Z
X-MICROSOFT-CDO-ALLDAYEVENT:FALSE
SUMMARY:Back to Business: The right marketing for re-opening
DESCRIPTION:Understanding pandemic-related marketing shifts Building your marketing strategy Assessing your Analytics Where to spend your time and money Updating the tone of your marketing efforts Managing trends Making the most of your CRM
X-ALT-DESC;FMTTYPE=text/html:Understanding pandemic-related marketing shifts Building your marketing strategy Assessing your Analytics Where to spend your time and money Updating the tone of your marketing efforts Managing trends Making the most of your CRM
LOCATION:Webinar Sponsored by SCORE Presented by The Marlyn Group
UID:e.2770.10484417
SEQUENCE:3
DTSTAMP:20260422T020108Z
URL:http://dutchesscountyregional.smartcms.site/events/details/back-to-business-the-right-marketing-for-re-opening-10484417
END:VEVENT

END:VCALENDAR
