BEGIN:VCALENDAR
VERSION:2.0
PRODID:-//ChamberMaster//Event Calendar 2.0//EN
METHOD:PUBLISH
X-PUBLISHED-TTL:P3D
REFRESH-INTERVAL:P3D
CALSCALE:GREGORIAN
BEGIN:VEVENT
DTSTART:20181207T220000Z
DTEND:20181207T230000Z
X-MICROSOFT-CDO-ALLDAYEVENT:FALSE
SUMMARY:Barrett Art Center - First Friday Artists' Talk
DESCRIPTION:Please join us for a special First Friday Artist Talk with Crenson Solo Show Artist Santiago Cohen\, BAC Artist Member Crista Pisano\, and a Group Studio Visit with BAC Artist-in-Residence Benjamin Arnold.\n\n\n\nReception to follow the event.\n\n\n\nVisitors can enjoy extended gallery hours\, 10am-6pm\, connect with artists\, and learn more about their creative process.\n\n\n\nCheck out the artists' website for a sneak peek at their work:\n\nhttp://www.santiagocohen.com/\n\nhttp://www.cristapisano.com\n\nhttp://www.benjaminarnold.com/\n\n\n\nFREE and open to all.
X-ALT-DESC;FMTTYPE=text/html:<span style="color:rgb(29\, 33\, 41)\; font-family:system-ui\,-apple-system\,system-ui\,.sfnstext-regular\,sans-serif\; font-size:14px">Please join us for a special First Friday Artist Talk with Crenson Solo Show Artist Santiago Cohen\, BAC Artist Member Crista Pisano\, and a Group Studio Visit with BAC Artist-in-Residence Benjamin Arnold.</span><br />\n<br />\n<span style="color:rgb(29\, 33\, 41)\; font-family:system-ui\,-apple-system\,system-ui\,.sfnstext-regular\,sans-serif\; font-size:14px">Reception to follow the event.</span><br />\n<br />\n<span style="color:rgb(29\, 33\, 41)\; font-family:system-ui\,-apple-system\,system-ui\,.sfnstext-regular\,sans-serif\; font-size:14px">Visitors can enjoy extended gallery hours\, 10am-6pm\, connect with artists\, and learn more about their creative process.</span><br />\n<br />\n<span style="color:rgb(29\, 33\, 41)\; font-family:system-ui\,-apple-system\,system-ui\,.sfnstext-regular\,sans-serif\; font-size:14px">Check out the artists&#39\; website for a sneak peek at their work:</span><br />\n<a href="http://www.santiagocohen.com/?fbclid=IwAR2XU9rVSPdfmeOcU5IWi3YkcbAIQpt6cMNPoxqAyc8mOsz2jqPSP76Kv1g" rel="nofollow noopener" style="color: rgb(54\, 88\, 153)\; cursor: pointer\; text-decoration-line: none\; font-family: system-ui\, -apple-system\, system-ui\, &quot\;.SFNSText-Regular&quot\;\, sans-serif\; font-size: 14px\;" target="_blank">http://www.santiagocohen.com/</a><br />\n<a href="http://www.cristapisano.com/?fbclid=IwAR2FEN6xqmKO2mVmf176LDQtUqL7aR1Mc6MxOaTWxuOhhT4WmDxn4t_emHc" rel="nofollow noopener" style="color: rgb(54\, 88\, 153)\; cursor: pointer\; text-decoration-line: none\; font-family: system-ui\, -apple-system\, system-ui\, &quot\;.SFNSText-Regular&quot\;\, sans-serif\; font-size: 14px\;" target="_blank">http://www.cristapisano.com</a><br />\n<a href="http://www.benjaminarnold.com/?fbclid=IwAR3VW9P7kkhT7CyLxsb_9THU7BBStVTzUEsQMxXppYF9kbVh4JxaDoSKsDg" rel="nofollow noopener" style="color: rgb(54\, 88\, 153)\; cursor: pointer\; text-decoration-line: none\; font-family: system-ui\, -apple-system\, system-ui\, &quot\;.SFNSText-Regular&quot\;\, sans-serif\; font-size: 14px\;" target="_blank">http://www.benjaminarnold.com/</a><br />\n<br />\n<span style="color:rgb(29\, 33\, 41)\; font-family:system-ui\,-apple-system\,system-ui\,.sfnstext-regular\,sans-serif\; font-size:14px">FREE and open to all.</span>
LOCATION:Barrett Art Center- 55 Noxon Street\, Poughkeepsie\, NY 12601
UID:e.2770.10479920
SEQUENCE:3
DTSTAMP:20260425T142608Z
URL:http://dutchesscountyregional.smartcms.site/events/details/barrett-art-center-first-friday-artists-talk-10479920
END:VEVENT

END:VCALENDAR
