BEGIN:VCALENDAR
VERSION:2.0
PRODID:-//ChamberMaster//Event Calendar 2.0//EN
METHOD:PUBLISH
X-PUBLISHED-TTL:P3D
REFRESH-INTERVAL:P3D
CALSCALE:GREGORIAN
BEGIN:VEVENT
DTSTART:20181201T200000Z
DTEND:20181201T230000Z
X-MICROSOFT-CDO-ALLDAYEVENT:FALSE
SUMMARY:Barrett Art Center - Small Works Holiday Show
DESCRIPTION:BAC Members' Small Works Holiday Show\n\n\n\nExhibition Dates: December 1 - 21\, 2018 \n\nOpening Reception: Sat\, Dec 1\, 3-6pm\n\nArtist Talk: First Friday\, Dec 7\, 5-6pm\, reception to follow\n\n\n\nFeatured Artists: \n\nLori Adams\n\nJIm Allen\n\nJulie Arbiter\n\nJess Becks\n\nDebbie J. Bein\n\nJim Bennett\n\nMary Brockway\n\nCynthia Linden Carlaw\n\nKara Cerilli\n\nTay Cha\n\nLauren Clark\n\nDick Crenson\n\nDavid Curtis\n\nMartin Davis\n\nConnie DeDona\n\nPenny Dell\n\nPeggy Farrington\n\nNancy Faulds\n\nMary Flad\n\nJose Gomez\n\nKaren Goodman\n\nSusan Hennelly\n\nNikki Hung\n\nDahlia Jarrett\n\nJohn Joseph\n\nCollette Kavana\n\nPam Krimsky\n\nWill Lamprecht\n\nKeesha Lewis\n\nEric Lindbloom\n\nDan McCormack\n\nKathleen G. Mprrissey\n\nSusan Nagel\n\nGeorge Nicholson\n\nCarol Pepper Cooper\n\nStephanie J T Russell\n\nKarl Schmitz\n\nRaymond Vanloan\n\nKarl Volk
X-ALT-DESC;FMTTYPE=text/html:<span style="color:rgb(29\, 33\, 41)\; font-family:system-ui\,-apple-system\,system-ui\,.sfnstext-regular\,sans-serif\; font-size:14px">BAC Members&#39\; Small Works Holiday Show</span><br />\n<br />\n<span style="color:rgb(29\, 33\, 41)\; font-family:system-ui\,-apple-system\,system-ui\,.sfnstext-regular\,sans-serif\; font-size:14px">Exhibition Dates: December 1 - 21\, 2018&nbsp\;</span><br />\n<span style="color:rgb(29\, 33\, 41)\; font-family:system-ui\,-apple-system\,system-ui\,.sfnstext-regular\,sans-serif\; font-size:14px">Opening Reception: Sat\, Dec 1\, 3-6pm</span><br />\n<span style="color:rgb(29\, 33\, 41)\; font-family:system-ui\,-apple-system\,system-ui\,.sfnstext-regular\,sans-serif\; font-size:14px">Artist Talk: First Friday\, Dec 7\, 5-6pm\, reception to follow</span><br />\n<br />\n<span style="color:rgb(29\, 33\, 41)\; font-family:system-ui\,-apple-system\,system-ui\,.sfnstext-regular\,sans-serif\; font-size:14px">Featured Artists:&nbsp\;</span><br />\n<span style="color:rgb(29\, 33\, 41)\; font-family:system-ui\,-apple-system\,system-ui\,.sfnstext-regular\,sans-serif\; font-size:14px">Lori Adams</span><br />\n<span style="color:rgb(29\, 33\, 41)\; font-family:system-ui\,-apple-system\,system-ui\,.sfnstext-regular\,sans-serif\; font-size:14px">JIm Allen</span><br />\n<span style="color:rgb(29\, 33\, 41)\; font-family:system-ui\,-apple-system\,system-ui\,.sfnstext-regular\,sans-serif\; font-size:14px">Julie Arbiter</span><br />\n<span style="color:rgb(29\, 33\, 41)\; font-family:system-ui\,-apple-system\,system-ui\,.sfnstext-regular\,sans-serif\; font-size:14px">Jess Becks</span><br />\n<span style="color:rgb(29\, 33\, 41)\; font-family:system-ui\,-apple-system\,system-ui\,.sfnstext-regular\,sans-serif\; font-size:14px">Debbie J. Bein</span><br />\n<span style="color:rgb(29\, 33\, 41)\; font-family:system-ui\,-apple-system\,system-ui\,.sfnstext-regular\,sans-serif\; font-size:14px">Jim Bennett</span><br />\n<span style="color:rgb(29\, 33\, 41)\; font-family:system-ui\,-apple-system\,system-ui\,.sfnstext-regular\,sans-serif\; font-size:14px">Mary Brockway</span><br />\n<span style="color:rgb(29\, 33\, 41)\; font-family:system-ui\,-apple-system\,system-ui\,.sfnstext-regular\,sans-serif\; font-size:14px">Cynthia Linden Carlaw</span><br />\n<span style="color:rgb(29\, 33\, 41)\; font-family:system-ui\,-apple-system\,system-ui\,.sfnstext-regular\,sans-serif\; font-size:14px">Kara Cerilli</span><br />\n<span style="color:rgb(29\, 33\, 41)\; font-family:system-ui\,-apple-system\,system-ui\,.sfnstext-regular\,sans-serif\; font-size:14px">Tay Cha</span><br />\n<span style="color:rgb(29\, 33\, 41)\; font-family:system-ui\,-apple-system\,system-ui\,.sfnstext-regular\,sans-serif\; font-size:14px">Lauren Clark</span><br />\n<span style="color:rgb(29\, 33\, 41)\; font-family:system-ui\,-apple-system\,system-ui\,.sfnstext-regular\,sans-serif\; font-size:14px">Dick Crenson</span><br />\n<span style="color:rgb(29\, 33\, 41)\; font-family:system-ui\,-apple-system\,system-ui\,.sfnstext-regular\,sans-serif\; font-size:14px">David Curtis</span><br />\n<span style="color:rgb(29\, 33\, 41)\; font-family:system-ui\,-apple-system\,system-ui\,.sfnstext-regular\,sans-serif\; font-size:14px">Martin Davis</span><br />\n<span style="color:rgb(29\, 33\, 41)\; font-family:system-ui\,-apple-system\,system-ui\,.sfnstext-regular\,sans-serif\; font-size:14px">Connie DeDona</span><br />\n<span style="color:rgb(29\, 33\, 41)\; font-family:system-ui\,-apple-system\,system-ui\,.sfnstext-regular\,sans-serif\; font-size:14px">Penny Dell</span><br />\n<span style="color:rgb(29\, 33\, 41)\; font-family:system-ui\,-apple-system\,system-ui\,.sfnstext-regular\,sans-serif\; font-size:14px">Peggy Farrington</span><br />\n<span style="color:rgb(29\, 33\, 41)\; font-family:system-ui\,-apple-system\,system-ui\,.sfnstext-regular\,sans-serif\; font-size:14px">Nancy Faulds</span><br />\n<span style="color:rgb(29\, 33\, 41)\; font-family:system-ui\,-apple-system\,system-ui\,.sfnstext-regular\,sans-serif\; font-size:14px">Mary Flad</span><br />\n<span style="color:rgb(29\, 33\, 41)\; font-family:system-ui\,-apple-system\,system-ui\,.sfnstext-regular\,sans-serif\; font-size:14px">Jose Gomez</span><br />\n<span style="color:rgb(29\, 33\, 41)\; font-family:system-ui\,-apple-system\,system-ui\,.sfnstext-regular\,sans-serif\; font-size:14px">Karen Goodman</span><br />\n<span style="color:rgb(29\, 33\, 41)\; font-family:system-ui\,-apple-system\,system-ui\,.sfnstext-regular\,sans-serif\; font-size:14px">Susan Hennelly</span><br />\n<span style="color:rgb(29\, 33\, 41)\; font-family:system-ui\,-apple-system\,system-ui\,.sfnstext-regular\,sans-serif\; font-size:14px">Nikki Hung</span><br />\n<span style="color:rgb(29\, 33\, 41)\; font-family:system-ui\,-apple-system\,system-ui\,.sfnstext-regular\,sans-serif\; font-size:14px">Dahlia Jarrett</span><br />\n<span style="color:rgb(29\, 33\, 41)\; font-family:system-ui\,-apple-system\,system-ui\,.sfnstext-regular\,sans-serif\; font-size:14px">John Joseph</span><br />\n<span style="color:rgb(29\, 33\, 41)\; font-family:system-ui\,-apple-system\,system-ui\,.sfnstext-regular\,sans-serif\; font-size:14px">Collette Kavana</span><br />\n<span style="color:rgb(29\, 33\, 41)\; font-family:system-ui\,-apple-system\,system-ui\,.sfnstext-regular\,sans-serif\; font-size:14px">Pam Krimsky</span><br />\n<span style="color:rgb(29\, 33\, 41)\; font-family:system-ui\,-apple-system\,system-ui\,.sfnstext-regular\,sans-serif\; font-size:14px">Will Lamprecht</span><br />\n<span style="color:rgb(29\, 33\, 41)\; font-family:system-ui\,-apple-system\,system-ui\,.sfnstext-regular\,sans-serif\; font-size:14px">Keesha Lewis</span><br />\n<span style="color:rgb(29\, 33\, 41)\; font-family:system-ui\,-apple-system\,system-ui\,.sfnstext-regular\,sans-serif\; font-size:14px">Eric Lindbloom</span><br />\n<span style="color:rgb(29\, 33\, 41)\; font-family:system-ui\,-apple-system\,system-ui\,.sfnstext-regular\,sans-serif\; font-size:14px">Dan McCormack</span><br />\n<span style="color:rgb(29\, 33\, 41)\; font-family:system-ui\,-apple-system\,system-ui\,.sfnstext-regular\,sans-serif\; font-size:14px">Kathleen G. Mprrissey</span><br />\n<span style="color:rgb(29\, 33\, 41)\; font-family:system-ui\,-apple-system\,system-ui\,.sfnstext-regular\,sans-serif\; font-size:14px">Susan Nagel</span><br />\n<span style="color:rgb(29\, 33\, 41)\; font-family:system-ui\,-apple-system\,system-ui\,.sfnstext-regular\,sans-serif\; font-size:14px">George Nicholson</span><br />\n<span style="color:rgb(29\, 33\, 41)\; font-family:system-ui\,-apple-system\,system-ui\,.sfnstext-regular\,sans-serif\; font-size:14px">Carol Pepper Cooper</span><br />\n<span style="color:rgb(29\, 33\, 41)\; font-family:system-ui\,-apple-system\,system-ui\,.sfnstext-regular\,sans-serif\; font-size:14px">Stephanie J T Russell</span><br />\n<span style="color:rgb(29\, 33\, 41)\; font-family:system-ui\,-apple-system\,system-ui\,.sfnstext-regular\,sans-serif\; font-size:14px">Karl Schmitz</span><br />\n<span style="color:rgb(29\, 33\, 41)\; font-family:system-ui\,-apple-system\,system-ui\,.sfnstext-regular\,sans-serif\; font-size:14px">Raymond Vanloan</span><br />\n<span style="color:rgb(29\, 33\, 41)\; font-family:system-ui\,-apple-system\,system-ui\,.sfnstext-regular\,sans-serif\; font-size:14px">Karl Volk</span>
LOCATION:Barrett Art Center- 55 Noxon Street\, Poughkeepsie\, NY 12601
UID:e.2770.10479915
SEQUENCE:3
DTSTAMP:20260425T142703Z
URL:http://dutchesscountyregional.smartcms.site/events/details/barrett-art-center-small-works-holiday-show-10479915
END:VEVENT

END:VCALENDAR
