BEGIN:VCALENDAR
VERSION:2.0
PRODID:-//ChamberMaster//Event Calendar 2.0//EN
METHOD:PUBLISH
X-PUBLISHED-TTL:P3D
REFRESH-INTERVAL:P3D
CALSCALE:GREGORIAN
BEGIN:VEVENT
DTSTART;VALUE=DATE:20190303
DTEND;VALUE=DATE:20190304
TRANSP:TRANSPARENT
X-MICROSOFT-CDO-ALLDAYEVENT:TRUE
SUMMARY:Barrett Art Center: Springraiser 2019
DESCRIPTION:Sunday\, March 3\, 1 - 4pm \n\n\n\nAn Exclusive Exhibition of New Deal Era Artwork drawn from the Archives of the FDR Museum & Library and Barrett Art Center \n\n\n\nArtwork & Silent Auction from Outstanding Hudson Valley Artists: Julia Whitney Barnes\, Boogie (Risa Tochigi)\, Penny Dell\, Kevin Frank\, Emilie Houssart\n\n\n\nHistoric & Contemporary Art Exhibition - Artist Meet & Greet - Art Auction - Awards \n\n\n\nWine Reception - Sumptuous Fare - Live Music - Raffles\n\n\n\nHonoring: Paul M. Sparrow\, Director of the FDR Museum & Library \n\nSpecial Recognition to our Community Arts Partners: Tom Lawrence (Executive Director\, Poughkeepsie Public Library District) and Roy Budnik (President\, Mid-Hudson Heritage Center\, Poughkeepsie)\n\n\n\nHonorary Host: Rob Rolison (Mayor\, City of Poughkeepsie)
X-ALT-DESC;FMTTYPE=text/html:<span style="color: rgb(29\, 33\, 41)\; font-size: 14px\;">Sunday\, March 3\, 1 - 4pm </span><br />\n<br />\n<span style="color: rgb(29\, 33\, 41)\; font-size: 14px\;">An Exclusive Exhibition of New Deal Era Artwork drawn from the Archives of the FDR Museum &amp\; Library and Barrett Art Center </span><br />\n<br />\n<span style="color: rgb(29\, 33\, 41)\; font-size: 14px\;">Artwork &amp\; Silent Auction from Outstanding Hudson Valley Artists: Julia Whitney Barnes\, Boogie (Risa Tochigi)\, Penny Dell\, Kevin Frank\, Emilie Houssart</span><br />\n<br />\n<span style="color: rgb(29\, 33\, 41)\; font-size: 14px\;">Historic &amp\; Contemporary Art Exhibition - Artist Meet &amp\; Greet - Art Auction - Awards </span><br />\n<br />\n<span style="color: rgb(29\, 33\, 41)\; font-size: 14px\;">Wine Reception - Sumptuous Fare - Live Music - Raffles</span><br />\n<br />\n<span style="color: rgb(29\, 33\, 41)\; font-size: 14px\;">Honoring: Paul M. Sparrow\, Director of the FDR Museum &amp\; Library </span><br />\n<span style="color: rgb(29\, 33\, 41)\; font-size: 14px\;">Special Recognition to our Community Arts Partners: Tom Lawrence (Executive Director\, Poughkeepsie Public Library District) and Roy Budnik (President\, Mid-Hudson Heritage Center\, Poughkeepsie)</span><br />\n<br />\n<span style="color: rgb(29\, 33\, 41)\; font-size: 14px\;">Honorary Host: Rob Rolison (Mayor\, City of Poughkeepsie)</span><br />\n&nbsp\;&nbsp\;&nbsp\;&nbsp\;&nbsp\;&nbsp\;&nbsp\;&nbsp\;&nbsp\;&nbsp\;&nbsp\;&nbsp\;&nbsp\;&nbsp\;&nbsp\;&nbsp\;&nbsp\;&nbsp\;&nbsp\;&nbsp\;&nbsp\;
LOCATION:Locust Grove Estate- 2683 South Road\, Poughkeepsie\, NY 12601
UID:e.2770.10480468
SEQUENCE:3
DTSTAMP:20260423T071934Z
URL:http://dutchesscountyregional.smartcms.site/events/details/barrett-art-center-springraiser-2019-10480468
END:VEVENT

END:VCALENDAR
