BEGIN:VCALENDAR
VERSION:2.0
PRODID:-//ChamberMaster//Event Calendar 2.0//EN
METHOD:PUBLISH
X-PUBLISHED-TTL:P3D
REFRESH-INTERVAL:P3D
CALSCALE:GREGORIAN
BEGIN:VEVENT
DTSTART:20191020T200000Z
DTEND:20191022T173000Z
X-MICROSOFT-CDO-ALLDAYEVENT:FALSE
SUMMARY:Becoming ATHENA: Leading the Way - 2019 International Leadership Conference
DESCRIPTION:***Please Note: Individuals registering after 12 Noon on Friday\, October 18th may not receive a pre-printed Conference Name Badge. \n\n\n\nRegister here for the 2019 Becoming ATHENA: Leading the Way Conference in Poughkeepsie\, New York. Together with ATHENA International\, the Dutchess County Regional Chamber of Commerce\, the Woman's Leadership Alliance\, and Dutchess Tourism we welcome you to the Mid-Hudson Valley on Sunday\, October 20   Tuesday\, October 22 for an empowering and educational conference which will attract attendees from across the nation and beyond.  In addition to the conference\, sightseeing tours and specialty excursions throughout the area will be available before\, during\, and after the conference. There are three preferred properties offering special rates for conference attendees. \n\n\n\nConference registration includes breakfast and lunch on Monday and Tuesday\, access to all speakers\, panels and networking sessions\, Monday evening Awards Reception and Ceremony. Awards reception will feature exquisite dinner stations\, local spirit samplings\, and a seated dessert. \n\n \nFor those guests booking a room at The Poughkeepsie Grand Hotel through the hotel's website\, please use the "Rate Option" and apply "ATHENA" to the Promotional / Group Code box.  Guests must enter the code in order to receive the discounted room rate.  Any guests wishing to book a room for the Friday or Saturday preceding must also contact the hotel directly.\n\n\nExcursions & Tours require separate registration click here to Plan Your Trip\n\n\n\nClick here for more information if you plan to arrive in New York City early?\n\n\n\nNeed more information on lodging?\n\n\n\nWe look forward to hosting you!
X-ALT-DESC;FMTTYPE=text/html:<span style="font-size: 16px\;"><span style="font-family: times new roman\;"><strong><span style="color: rgb(255\, 0\, 0)\;">***Please Note: <em>Individuals registering after 12 Noon on Friday\, October 18th may not receive a pre-printed Conference Name Badge.&nbsp\;</em></span><br />\n<br />\nRegister here for the 2019 Becoming ATHENA: Leading the Way Conference in Poughkeepsie\, New York. Together with ATHENA International\, the Dutchess County Regional Chamber of Commerce\, the Woman&rsquo\;s Leadership Alliance\, and Dutchess Tourism we welcome you to the Mid-Hudson Valley on Sunday\, October 20 &ndash\;&nbsp\;Tuesday\, October 22 for an empowering and educational conference which will attract attendees from across the nation and beyond.&nbsp\; In addition to the conference\, sightseeing tours and specialty excursions throughout the area will be available before\, during\, and after the conference. There are three preferred properties offering special rates for conference attendees.&nbsp\;</strong></span><br />\n<br />\n<strong><span style="font-family: times new roman\;">Conference registration includes breakfast and lunch on Monday and Tuesday\, access to all speakers\, panels and networking sessions\, Monday evening Awards Reception and Ceremony.&nbsp\;Awards reception will feature exquisite dinner stations\, local spirit samplings\, and a seated dessert.&nbsp\;</span></strong></span><br />\n&nbsp\;\n<p style="margin: 0in 0in 0pt\;"><em><span style="font-size: 16px\;"><strong><span style="font-family: times new roman\;"><span style="color: rgb(255\, 0\, 0)\;">For those guests booking a room at The&nbsp\;Poughkeepsie Grand Hotel&nbsp\;through the hotel&#39\;s website\, please&nbsp\;use the&nbsp\;&ldquo\;Rate Option&rdquo\; and apply &ldquo\;ATHENA&rdquo\; to the Promotional / Group Code box.&nbsp\; Guests must enter the code in order to receive the discounted room&nbsp\;rate. &nbsp\;</span></span></strong></span></em><em><span style="font-size: 16px\;"><strong><span style="font-family: times new roman\;"><span style="color: rgb(255\, 0\, 0)\;">Any guests wishing to&nbsp\;book a room for&nbsp\;the Friday or Saturday preceding must also&nbsp\;contact the hotel directly.</span></span></strong></span></em></p>\n<br />\n<span style="font-size: 16px\;"><strong><span style="font-family: times new roman\;"><span style="color: rgb(71\, 71\, 71)\;"><em>Excursions &amp\; Tours require separate registration click here to </em></span><em><a href="https://becomingathena.org/plan-your-trip/" target="_blank"><span style="color: rgb(0\, 0\, 255)\;">Plan Your Trip</span></a></em><br />\n<br />\n<em>Click here for more information if you plan to <a href="https://chambermaster.blob.core.windows.net/userfiles/UserFiles/chambers/2770/File/ArrivingtoNewYorkCityearl1.pdf"><span style="color: rgb(0\, 0\, 255)\;">arrive in New York City early?</span></a></em><br />\n<br />\n<em>Need more information on <a href="https://chambermaster.blob.core.windows.net/userfiles/UserFiles/chambers/2770/File/ATHENALodging.pdf"><span style="color: rgb(0\, 0\, 255)\;">lodging</span></a>?</em></span></strong></span><br />\n<br />\n<em><strong><span style="font-size: 16px\;"><span style="font-family: times new roman\;">We look forward to hosting you!</span></span></strong></em>
LOCATION:The Poughkeepsie Grand Hotel & Conference Center
UID:e.2770.10480689
SEQUENCE:3
DTSTAMP:20260422T172835Z
URL:http://dutchesscountyregional.smartcms.site/events/details/becoming-athena-leading-the-way-2019-international-leadership-conference-10480689
END:VEVENT

END:VCALENDAR
