BEGIN:VCALENDAR
VERSION:2.0
PRODID:-//ChamberMaster//Event Calendar 2.0//EN
METHOD:PUBLISH
X-PUBLISHED-TTL:P3D
REFRESH-INTERVAL:P3D
CALSCALE:GREGORIAN
BEGIN:VEVENT
DTSTART:20191022T173000Z
DTEND:20191022T193000Z
X-MICROSOFT-CDO-ALLDAYEVENT:FALSE
SUMMARY:Becoming ATHENA: Leading the Way - Val-kill Tour (Excursion)
DESCRIPTION:Visit the only National Historic Site dedicated to a first lady of the United States. Val-Kill was the home of Eleanor Roosevelt from 1945-1962. Tour includes: Eleanor Roosevelt memorial garden\, grounds\, hiking trails\, and Top Cottage. Visit begins at Henry A. Wallace Visitors Center on the Franklin Delano Roosevelt grounds.
X-ALT-DESC;FMTTYPE=text/html:<br />\n<strong><span style="font-size: 18px\;"><span style="font-family: times new roman\;">Visit the only National Historic Site dedicated to a first lady of the United States. Val-Kill was the home of Eleanor Roosevelt from 1945-1962. Tour includes: Eleanor Roosevelt memorial garden\, grounds\, hiking trails\, and Top Cottage. Visit begins at Henry A. Wallace Visitors Center on the Franklin Delano Roosevelt grounds.</span></span></strong>
LOCATION:
UID:e.2770.10480939
SEQUENCE:3
DTSTAMP:20260422T172719Z
URL:http://dutchesscountyregional.smartcms.site/events/details/becoming-athena-leading-the-way-val-kill-tour-excursion-10-22-2019-10480939
END:VEVENT

END:VCALENDAR
