BEGIN:VCALENDAR
VERSION:2.0
PRODID:-//ChamberMaster//Event Calendar 2.0//EN
METHOD:PUBLISH
X-PUBLISHED-TTL:P3D
REFRESH-INTERVAL:P3D
CALSCALE:GREGORIAN
BEGIN:VEVENT
DTSTART:20191211T230000Z
DTEND:20191212T030000Z
X-MICROSOFT-CDO-ALLDAYEVENT:FALSE
SUMMARY:Big Little Holiday Party at LeChambord at Curry Estate
DESCRIPTION:We are hosting a Holiday Celebration perfect for Small Business\, Clubs\, Friends\, Customer Appreciation\, and more. Buffet dinner\, cash bar and a DJ for a night of dancing and celebrating the season.
X-ALT-DESC;FMTTYPE=text/html:<span style="color:rgb(41\, 35\, 37)\; font-family:avenir-lt-w01_35-light1475496\,sans-serif\; font-size:16px">We are hosting a Holiday Celebration perfect for Small Business\, Clubs\, Friends\, Customer Appreciation\, and more. Buffet dinner\, cash bar and a DJ for a night of dancing and celebrating the season.</span>
LOCATION:LeChambord at Curry Estate 2737 Route 52 Hopewell Junction\, NY 12533
UID:e.2770.10482591
SEQUENCE:3
DTSTAMP:20260422T140041Z
URL:http://dutchesscountyregional.smartcms.site/events/details/big-little-holiday-party-at-lechambord-at-curry-estate-10482591
END:VEVENT

END:VCALENDAR
