BEGIN:VCALENDAR
VERSION:2.0
PRODID:-//ChamberMaster//Event Calendar 2.0//EN
METHOD:PUBLISH
X-PUBLISHED-TTL:P3D
REFRESH-INTERVAL:P3D
CALSCALE:GREGORIAN
BEGIN:VEVENT
DTSTART:20181205T143000Z
DTEND:20181205T230000Z
X-MICROSOFT-CDO-ALLDAYEVENT:FALSE
SUMMARY:Blood Drive - Culinary Institute of America
DESCRIPTION:As we enter the height of the gift-giving season\, could there be any gift more precious than the gift of life? Just one pint of blood can save up to three lives. On December 5\, the New York Blood Center and The Culinary Institute of America are teaming up for a blood drive. The two organizations have partnered for more than 25 years to help their local communities\, particularly in the face of key seasonal shortages. People ages 16 to 75 may donate\; 16-year-olds need parental permission and people over the age of 75 must present a doctor's note. Donors should be in good health\, have photo ID\, weigh at least 110 lbs\, and should eat and drink before donating. All blood types are needed but the greatest need is for O negative\, the universal donor. For questions regarding medical eligibility\, call 800-688-0900.
X-ALT-DESC;FMTTYPE=text/html:As we enter the height of the gift-giving season\, could there be any gift more precious than the gift of life? Just one pint of blood can save up to three lives. On December 5\, the New York Blood Center and The Culinary Institute of America are teaming up for a blood drive. The two organizations have partnered for more than 25 years to help their local communities\, particularly in the face of key seasonal shortages. People ages 16 to 75 may donate\; 16-year-olds need parental permission and people over the age of 75 must present a doctor&rsquo\;s note. Donors should be in good health\, have photo ID\, weigh at least 110 lbs\, and should eat and drink before donating. All blood types are needed but the greatest need is for O negative\, the universal donor. For questions regarding medical eligibility\, call 800-688-0900.
LOCATION:The Culinary Institute of America Marriott Pavilion\, lower level 1946 Campus Drive (Route 9) Hyde Park\, NY 12538
UID:e.2770.10479932
SEQUENCE:3
DTSTAMP:20260425T142723Z
URL:http://dutchesscountyregional.smartcms.site/events/details/blood-drive-culinary-institute-of-america-10479932
END:VEVENT

END:VCALENDAR
