BEGIN:VCALENDAR
VERSION:2.0
PRODID:-//ChamberMaster//Event Calendar 2.0//EN
METHOD:PUBLISH
X-PUBLISHED-TTL:P3D
REFRESH-INTERVAL:P3D
CALSCALE:GREGORIAN
BEGIN:VEVENT
DTSTART:20200224T210000Z
DTEND:20200224T220000Z
X-MICROSOFT-CDO-ALLDAYEVENT:FALSE
SUMMARY:Boosting your Emotional Intelligence
DESCRIPTION:Emotional Intelligence has been recognized as one of the most important factors in attaining success in personal lives and careers. In this 1 hour class\, learn some ways in which you can boost your EQ and help to better understand and regulate your own emotions as well as communicate more effectively with others.
X-ALT-DESC;FMTTYPE=text/html:Emotional Intelligence has been recognized as one of the most important factors in attaining success in personal lives and careers. In this 1 hour class\, learn some ways in which you can boost your EQ and help to better understand and regulate your own emotions as well as communicate more effectively with others.
LOCATION:Turning Over Stones: Employment and Resource Center 5 Givans Avenue\, 1st Floor Wappingers Falls\, NY 12590
UID:e.2770.10482675
SEQUENCE:3
DTSTAMP:20260422T103252Z
URL:http://dutchesscountyregional.smartcms.site/events/details/boosting-your-emotional-intelligence-02-24-2020-10482675
END:VEVENT

END:VCALENDAR
