BEGIN:VCALENDAR
VERSION:2.0
PRODID:-//ChamberMaster//Event Calendar 2.0//EN
METHOD:PUBLISH
X-PUBLISHED-TTL:P3D
REFRESH-INTERVAL:P3D
CALSCALE:GREGORIAN
BEGIN:VEVENT
DTSTART:20190803T180000Z
DTEND:20190803T193000Z
X-MICROSOFT-CDO-ALLDAYEVENT:FALSE
SUMMARY:Bridge Music 10th Anniversary Part 1
DESCRIPTION:Celebrating a Decade of Music\n\nRe-Dedication and Tour of the Bridge Music Installation with Composer Joseph Bertolozzi.\n\nA festive ribbon cutting is followed by a tour led by Bertolozzi out to the Listening Station on the west tower of the Bridge itself where the public can play along to the music with supplied drumsticks.\n\nThere will be free giveaways such as BM10 tote bags\, magnets\, various other swag. \n\nFree and open to the public for ten years\, Bridge Music has been and remains a touchstone of internationally recognized public sound-art.
X-ALT-DESC;FMTTYPE=text/html:<h3><strong><span style="font-size:18px">Celebrating </span><span style="font-size:large"><span style="font-size:18px">a </span>Decade of Music</span></strong></h3>\n\n<h4><span style="font-size:14px">Re-Dedication and Tour of the Bridge Music Installation with Composer Joseph Bertolozzi.<br />\nA festive ribbon cutting is followed by a tour led by Bertolozzi out to the Listening Station on the west tower of the Bridge itself where the public can play along to the music with supplied drumsticks.<br />\n<em><span style="color:#FF0000">There will be free giveaways such as BM10 tote bags\, magnets\, various other swag.&nbsp\;</span></em></span></h4>\n\n<h4><span style="font-size:14px">Free and open to the public for ten years\,&nbsp\;<strong>Bridge Music</strong>&nbsp\;has been and remains a touchstone of&nbsp\;<a href="http://www.josephbertolozzi.com/bridge-music/global-press/" style="color: rgb(40\, 40\, 40)\; box-sizing: border-box\; overflow-wrap: break-word\; outline: none\; background-color: transparent\; text-decoration-line: none\;">internationally recognized public sound-art</a>.</span></h4>\n
LOCATION:Johnson-Iorio Park 281 Haviland Rd Highland 12528
UID:e.2770.10480204
SEQUENCE:3
DTSTAMP:20260423T001903Z
URL:http://dutchesscountyregional.smartcms.site/events/details/bridge-music-10th-anniversary-part-1-10480204
END:VEVENT

END:VCALENDAR
