BEGIN:VCALENDAR
VERSION:2.0
PRODID:-//ChamberMaster//Event Calendar 2.0//EN
METHOD:PUBLISH
X-PUBLISHED-TTL:P3D
REFRESH-INTERVAL:P3D
CALSCALE:GREGORIAN
BEGIN:VEVENT
DTSTART:20190803T213000Z
DTEND:20190803T230000Z
X-MICROSOFT-CDO-ALLDAYEVENT:FALSE
SUMMARY:Bridge Music 10th Anniversary Part 2 - Film Festival
DESCRIPTION:Bridge Music in film & print Screenings\, commentary and Q&A examining films and books about Bridge Music with Joseph Bertolozzi\, the film makers themselves and music professionals providing context to Bridge Music's place in music history.
X-ALT-DESC;FMTTYPE=text/html:<div><strong>Bridge Music in film &amp\; print</strong>&nbsp\;Screenings\, commentary and Q&amp\;A examining films and books about Bridge Music with Joseph Bertolozzi\, the film makers themselves and music professionals providing context to Bridge Music&rsquo\;s place in music history.</div>\n
LOCATION:Vassar Temple 140 Hooker Ave Poughkeepsie\, NY 12601
UID:e.2770.10480205
SEQUENCE:3
DTSTAMP:20260422T223627Z
URL:http://dutchesscountyregional.smartcms.site/events/details/bridge-music-10th-anniversary-part-2-film-festival-10480205
END:VEVENT

END:VCALENDAR
