BEGIN:VCALENDAR
VERSION:2.0
PRODID:-//ChamberMaster//Event Calendar 2.0//EN
METHOD:PUBLISH
X-PUBLISHED-TTL:P3D
REFRESH-INTERVAL:P3D
CALSCALE:GREGORIAN
BEGIN:VEVENT
DTSTART:20190804T010000Z
DTEND:20190804T020000Z
X-MICROSOFT-CDO-ALLDAYEVENT:FALSE
SUMMARY:Bridge Music 10th Anniversary Part 3 - Light Show
DESCRIPTION:Tune in to Q92.1 FM from anywhere you can see the Mid-Hudson Bridge and watch the lights on the bridge change color and pulse to the rhythms of Joseph Bertolozzi's Bridge Music or join the live broadcast from the Walkway Over the Hudson.
X-ALT-DESC;FMTTYPE=text/html:<h3>Tune in to Q92.1 FM from anywhere you can see the Mid-Hudson Bridge and watch the lights on the bridge change color and pulse to the rhythms of Joseph Bertolozzi&rsquo\;s Bridge Music or join the live broadcast from the Walkway Over the Hudson.</h3>\n
LOCATION:Walkway Over the Hudson Hudson River\, Poughkeepsie
UID:e.2770.10480206
SEQUENCE:3
DTSTAMP:20260422T223454Z
URL:http://dutchesscountyregional.smartcms.site/events/details/bridge-music-10th-anniversary-part-3-light-show-10480206
END:VEVENT

END:VCALENDAR
