BEGIN:VCALENDAR
VERSION:2.0
PRODID:-//ChamberMaster//Event Calendar 2.0//EN
METHOD:PUBLISH
X-PUBLISHED-TTL:P3D
REFRESH-INTERVAL:P3D
CALSCALE:GREGORIAN
BEGIN:VEVENT
DTSTART:20191022T213000Z
DTEND:20191022T233000Z
X-MICROSOFT-CDO-ALLDAYEVENT:FALSE
SUMMARY:Bridges To Board Service: Board Governance
DESCRIPTION:Board members steer their organization towards a sustainable future by adopting sound\, ethical\, and legal governance and financial management policies and ensure the organization has adequate resources to advance its mission. This session will provide both experienced and novice board members with a critical orientation on the responsibilities\, knowledge\, and skills needed to be an effective board member. Nonprofit boards are more similar than they are different\, but each board must make important and thoughtful decisions on how they will function. This course will introduce participants to many of these considerations.
X-ALT-DESC;FMTTYPE=text/html:Board members steer their organization towards a sustainable future by adopting sound\, ethical\, and legal governance and financial management policies and ensure the organization has adequate resources to advance its mission. This session will provide both experienced and novice board members with a critical orientation on the responsibilities\, knowledge\, and skills needed to be an effective board member. Nonprofit boards are more similar than they are different\, but each board must make important and thoughtful decisions on how they will function. This course will introduce participants to many of these considerations.
LOCATION:Poughkeepsie Library Boardman Road Branch 141 Boardman Road Poughkeepsie\, NY 12601
UID:e.2770.10480822
SEQUENCE:3
DTSTAMP:20260422T172747Z
URL:http://dutchesscountyregional.smartcms.site/events/details/bridges-to-board-service-board-governance-10-22-2019-10480822
END:VEVENT

END:VCALENDAR
